BEGIN:VCALENDAR
VERSION:2.0
PRODID:-//Run Your Story - ECPv6.15.20//NONSGML v1.0//EN
CALSCALE:GREGORIAN
METHOD:PUBLISH
X-WR-CALNAME:Run Your Story
X-ORIGINAL-URL:https://runyourstory.com
X-WR-CALDESC:Events for Run Your Story
REFRESH-INTERVAL;VALUE=DURATION:PT1H
X-Robots-Tag:noindex
X-PUBLISHED-TTL:PT1H
BEGIN:VTIMEZONE
TZID:America/Chicago
BEGIN:DAYLIGHT
TZOFFSETFROM:-0600
TZOFFSETTO:-0500
TZNAME:CDT
DTSTART:20210314T080000
END:DAYLIGHT
BEGIN:STANDARD
TZOFFSETFROM:-0500
TZOFFSETTO:-0600
TZNAME:CST
DTSTART:20211107T070000
END:STANDARD
BEGIN:DAYLIGHT
TZOFFSETFROM:-0600
TZOFFSETTO:-0500
TZNAME:CDT
DTSTART:20220313T080000
END:DAYLIGHT
BEGIN:STANDARD
TZOFFSETFROM:-0500
TZOFFSETTO:-0600
TZNAME:CST
DTSTART:20221106T070000
END:STANDARD
BEGIN:DAYLIGHT
TZOFFSETFROM:-0600
TZOFFSETTO:-0500
TZNAME:CDT
DTSTART:20230312T080000
END:DAYLIGHT
BEGIN:STANDARD
TZOFFSETFROM:-0500
TZOFFSETTO:-0600
TZNAME:CST
DTSTART:20231105T070000
END:STANDARD
BEGIN:DAYLIGHT
TZOFFSETFROM:-0600
TZOFFSETTO:-0500
TZNAME:CDT
DTSTART:20240310T080000
END:DAYLIGHT
BEGIN:STANDARD
TZOFFSETFROM:-0500
TZOFFSETTO:-0600
TZNAME:CST
DTSTART:20241103T070000
END:STANDARD
END:VTIMEZONE
BEGIN:VEVENT
DTSTART;TZID=America/Chicago:20221203T080000
DTEND;TZID=America/Chicago:20221203T080000
DTSTAMP:20260425T233802
CREATED:20230204T171959Z
LAST-MODIFIED:20230801T215200Z
UID:879-1670054400-1670054400@runyourstory.com
SUMMARY:Bells in the Bayou Half Marathon and 4-miler 2022
DESCRIPTION:We are collecting toys and items for distraction (coloring books\, puzzles\, craft kits) for the children at USA Children’s and Women’s Hospital and the children in the care of the Child Advocacy Center in Mobile\, AL. Everyone is encouraged to bring a new\, unwrapped toy for infants through 18 years to the race for donation.
URL:https://runyourstory.com/event/bells-in-the-bayou-half-marathon-and-4-miler-2022/
LOCATION:Bayou La Batre\, 13825 S Wintzell Ave\, Bayou La Batre\, AL\, 36509\, United States
CATEGORIES:4-Miler,Half Marathon
ATTACH;FMTTYPE=image/png:https://runyourstory.com/wp-content/uploads/2023/02/BLB_chamber_logo_transparent.png
END:VEVENT
BEGIN:VEVENT
DTSTART;TZID=America/Chicago:20231203T080000
DTEND;TZID=America/Chicago:20231203T170000
DTSTAMP:20260425T233802
CREATED:20231016T001959Z
LAST-MODIFIED:20231016T001959Z
UID:2479-1701590400-1701622800@runyourstory.com
SUMMARY:Our Lady of the Lake Tiger 10K
DESCRIPTION:The Our Lady of the Lake Tiger 10K is a partnership between LSU Athletics and FRESHJUNKIE Racing that brings the tradition of LSU Football and Tiger Stadium into a fun\, festive road race event that includes a 5K and a Kids 1 Mile Race (ages 12 and under).  The goal of the event is to give the entire LSU community: fans\, students\, alumni\, faculty and staff\, no matter age or ability\, an opportunity to complete their journey in Tiger Stadium.  Participants get to make their mark on the hallowed ground where so many have left theirs.  A festive post-race party with live music\, cold beer and good food is being planned to celebrate everyone’s accomplishments.
URL:https://runyourstory.com/event/our-lady-of-the-lake-tiger-10k/
LOCATION:Tiger Stadium\, Tiger Stadium\, Baton Rouge\, LA\, 70803\, United States
CATEGORIES:10k,5k
ATTACH;FMTTYPE=image/png:https://runyourstory.com/wp-content/uploads/2023/10/Our-Lady-of-the-Lake-Tiger-10k-2023-logo.png
ORGANIZER;CN="Fresh Junkie Racing":MAILTO:info@freshjunkie.com
END:VEVENT
BEGIN:VEVENT
DTSTART;TZID=America/Chicago:20231209T080000
DTEND;TZID=America/Chicago:20231209T100000
DTSTAMP:20260425T233802
CREATED:20231015T234833Z
LAST-MODIFIED:20231015T234833Z
UID:2463-1702108800-1702116000@runyourstory.com
SUMMARY:Reindeer Run 5k 2023
DESCRIPTION:Sponsored by: \nFirst Baptist Church of Satsuma and Satsuma High School Cross Country \nLocation: \nBaldwin Square\, Old Highway 43 (Orange Ave)\, Satsuma\, AL 36572 Distances: 5K course through the neighborhoods of Satsuma and 1 Mile Fun Run. \nRegistration: \nRegister by mail (entries should be postmarked by December 2)\, in person at First Baptist Church of Satsuma\, McCoy Outdoor\, Run-N-Tri\, or Fleet Feet in Mobile until noon on December 7\, or online at Events.com until 8 AM December 8. \nRace day registration and packet pick-up at Baldwin Square from 7:00 – 7:50 AM. \nEntry fees: \nEntry fees include a race shirt. To guarantee a shirt on race day\, participants must register by December 1. \nNo Shirt Option: subtract $3 from entry fee. \n5K participants may run the Fun Run at no additional cost \nAwards: \nTop male and female Overall and top three male and female in age groups: 9 and under\, 10-14\, 15-19\, 20-24\, 25-29\, 30-34\, 35-39\, 40-44\, 45-49\, 50-54\, 55-59\, 60-64\, 65-69\, 70-74\, and 75-99. \nPost-Race: \nSnacks and beverages will be provided after the race. \nRumor has it that there will be SNOW!
URL:https://runyourstory.com/event/reindeer-run-5k-2023/
LOCATION:Baldwin Square\, 50 E Orange Ave\, Satsuma\, AL\, 36572\, United States
CATEGORIES:5k
ATTACH;FMTTYPE=image/jpeg:https://runyourstory.com/wp-content/uploads/2023/02/Reindeer-Run-Logo.jpg
END:VEVENT
BEGIN:VEVENT
DTSTART;TZID=America/Chicago:20231209T080000
DTEND;TZID=America/Chicago:20231210T170000
DTSTAMP:20260425T233802
CREATED:20221022T212458Z
LAST-MODIFIED:20231016T002152Z
UID:390-1702108800-1702227600@runyourstory.com
SUMMARY:Mississippi Gulf Coast Marathon 2023
DESCRIPTION:We couldn’t be more excited to be hosting the Eighth Annual Mississippi Gulf Coast Marathon\, a Coastal Running Fest. \nFounded in 2015\, the Mississippi Gulf Coast Marathon\, a Coastal Running Fest\, showcases the local culture with a beautiful beachside run from Pass Christian to Biloxi. Kick off the weekend in Biloxi for Packet Pickup and grab some commemorative merchandise to celebrate your accomplishment. Saturday morning is our Chevron Kids Marathon 1 Mile Run and the Margaritaville 5K from their new venue at Margaritaville Resort – Biloxi.  Sunday starts as the sun rises over the Gulf for the Full & Half Marathons along the coast. Runners who run the 5K on Saturday as a warm-up to the Sunday races earn the coveted Double Down challenge medal. The weekend culminates at the finish line inside MGM Stadium with a Finish Festival complete with hot food\, cold beer\, and watching runners cross the finish line on the jumbotron.
URL:https://runyourstory.com/event/mississippi-gulf-coast-marathon-2023/
LOCATION:MGM Park\, 105 Caillavet St\, Biloxi\, MS\, 39530\, United States
CATEGORIES:5k,Half Marathon,Marathon
ATTACH;FMTTYPE=image/jpeg:https://runyourstory.com/wp-content/uploads/2023/01/Mississippi-Gulf-Coast-Marathon-logo.jpg
END:VEVENT
BEGIN:VEVENT
DTSTART;TZID=America/Chicago:20231209T083000
DTEND;TZID=America/Chicago:20231210T180000
DTSTAMP:20260425T233802
CREATED:20230710T132030Z
LAST-MODIFIED:20230801T213831Z
UID:2186-1702110600-1702231200@runyourstory.com
SUMMARY:BMW Dallas Marathon Festival 2023
DESCRIPTION:The BMW Dallas Marathon Festival is a nonprofit organization with a focus on promoting health and physical fitness through running events and related activities. Established in 1971\, the history of the organization encompasses tremendous growth and produces what has become Dallas’ largest and Texas’ longest running marathon\, the BMW Dallas Marathon\, as well as several other weekend event options including a Half Marathon\, Half Marathon Walk\, 50K Ultra Marathon\, 2-person half marathon relay\, 5-person marathon relay\, 10K\, 5K\, a 5K Team Challenge\, 5K Walk\, the Friday Night Lights Mile and various Kids Races. \nRunning and walking in the BMW Dallas Marathon Festival highlights the city’s most vibrant neighborhoods\, entertainment districts and iconic Dallas landmarks. Tens of thousands of spectators join in BMW Dallas Marathon Day – the second Sunday of December – lining the streets and neighborhoods to cheer on participants in a race that is recognized as the official marathon of the City of Dallas. \nSince naming a primary beneficiary in 1997\, the BMW Dallas Marathon Festival has donated more than $4 million to Scottish Rite for Children.
URL:https://runyourstory.com/event/bmw-dallas-marathon-festival-2023/
LOCATION:AL
CATEGORIES:10k,2-Miler,5k,Half Marathon,Marathon
ATTACH;FMTTYPE=image/jpeg:https://runyourstory.com/wp-content/uploads/2023/07/Run-Dallas-Logo.jpg
END:VEVENT
BEGIN:VEVENT
DTSTART;TZID=America/Chicago:20231210T080000
DTEND;TZID=America/Chicago:20231210T093000
DTSTAMP:20260425T233802
CREATED:20221022T212626Z
LAST-MODIFIED:20230801T213812Z
UID:392-1702195200-1702200600@runyourstory.com
SUMMARY:Margaritaville 5k 2023
DESCRIPTION:A 5K that everyone from the most experienced runner to the first-timer can appreciate. Toe the line with Mississippi locals and travelers striving to secure a Double Down award for running both days\, with sprinters\, joggers\, and walkers.
URL:https://runyourstory.com/event/margaritaville-5k-2023/
LOCATION:MGM Park\, 105 Caillavet St\, Biloxi\, MS\, 39530\, United States
CATEGORIES:5k
ATTACH;FMTTYPE=image/jpeg:https://runyourstory.com/wp-content/uploads/2023/01/margaritaville-run-logo.jpg
END:VEVENT
BEGIN:VEVENT
DTSTART;TZID=America/Chicago:20231216T080000
DTEND;TZID=America/Chicago:20231216T110000
DTSTAMP:20260425T233802
CREATED:20230709T212550Z
LAST-MODIFIED:20231201T130402Z
UID:2123-1702713600-1702724400@runyourstory.com
SUMMARY:Bells in the Bayou Half Marathon and 4-miler 2023
DESCRIPTION:We are collecting toys and items for distraction (coloring books\, puzzles\, craft kits) for the children at USA Children’s and Women’s Hospital and the children in the care of the Child Advocacy Center in Mobile\, AL. Everyone is encouraged to bring a new\, unwrapped toy for infants through 18 years to the race for donation. \nFriday\n\nNoon – 5:30 PM – Early packet pick-up and late registration at the Port City Pacers Office located at 358 Morgan Avenue\, Mobile\, Al. map\n\nSaturday\n\n6:30 – 7:45 AM – Race day registration and packet pick-up\n8:00 AM – Half Marathon Race Start\n8:10 AM – 4-Miler Race Start\n10:30 AM (approx) – Awards\n\nPre-register by mail (entries should be postmarked by November 27th)\, in person at McCoy Outdoor\, Run-N-Tri\, or Fleet Feet in Mobile or Running Wild in Fairhope until noon on December 1st  or online until 4AM December 2nd. \nHalf Marathon  Awards\n\nMedals to all finishers\nTop Male and Female Overall\nTop Masters Male and Female (40+)\nTop Grandmasters Male and Female (50+)\nTop Senior Grandmasters Male And Female (60+)\nTop Walker (no running at all) Male and Female\nTop 3 Male and Female in 5 year age groups\n\n4-Miler Awards\n\nTop Male and Female Overall\nTop Masters Male and Female (40+)\nTop Grandmasters Male and Female (50+)\nTop Senior Grandmasters Male And Female (60+)\nTop Walker (no running at all) Male and Female\nTop 2 Male and Female in 5 year age groups\n\nDue to police restrictions\, you must be able to complete the half marathon or 4-Miler in three hours. After that time\, there will be no police protection or race officials on the course.
URL:https://runyourstory.com/event/bells-in-the-bayou-half-marathon-and-4-miler-2023/
LOCATION:Bayou La Batre\, 13825 S Wintzell Ave\, Bayou La Batre\, AL\, 36509\, United States
CATEGORIES:4-Miler,Half Marathon
ATTACH;FMTTYPE=image/png:https://runyourstory.com/wp-content/uploads/2023/02/BLB_chamber_logo_transparent.png
END:VEVENT
BEGIN:VEVENT
DTSTART;TZID=America/Chicago:20231217T150000
DTEND;TZID=America/Chicago:20231217T170000
DTSTAMP:20260425T233802
CREATED:20231202T230732Z
LAST-MODIFIED:20231202T230732Z
UID:2646-1702825200-1702832400@runyourstory.com
SUMMARY:Lamb 5K and Fun Run 2023
DESCRIPTION:
URL:https://runyourstory.com/event/lamb-5k-and-fun-run-2023/
LOCATION:Amelia Park\, 716 Mae Street\, Saraland\, AL\, 36571\, United States
CATEGORIES:5k
ATTACH;FMTTYPE=image/jpeg:https://runyourstory.com/wp-content/uploads/2023/12/Lamb-5k-2023.jpg
END:VEVENT
END:VCALENDAR