BEGIN:VCALENDAR
VERSION:2.0
PRODID:-//Run Your Story - ECPv6.15.20//NONSGML v1.0//EN
CALSCALE:GREGORIAN
METHOD:PUBLISH
X-ORIGINAL-URL:https://runyourstory.com
X-WR-CALDESC:Events for Run Your Story
REFRESH-INTERVAL;VALUE=DURATION:PT1H
X-Robots-Tag:noindex
X-PUBLISHED-TTL:PT1H
BEGIN:VTIMEZONE
TZID:America/Chicago
BEGIN:DAYLIGHT
TZOFFSETFROM:-0600
TZOFFSETTO:-0500
TZNAME:CDT
DTSTART:20220313T080000
END:DAYLIGHT
BEGIN:STANDARD
TZOFFSETFROM:-0500
TZOFFSETTO:-0600
TZNAME:CST
DTSTART:20221106T070000
END:STANDARD
BEGIN:DAYLIGHT
TZOFFSETFROM:-0600
TZOFFSETTO:-0500
TZNAME:CDT
DTSTART:20230312T080000
END:DAYLIGHT
BEGIN:STANDARD
TZOFFSETFROM:-0500
TZOFFSETTO:-0600
TZNAME:CST
DTSTART:20231105T070000
END:STANDARD
BEGIN:DAYLIGHT
TZOFFSETFROM:-0600
TZOFFSETTO:-0500
TZNAME:CDT
DTSTART:20240310T080000
END:DAYLIGHT
BEGIN:STANDARD
TZOFFSETFROM:-0500
TZOFFSETTO:-0600
TZNAME:CST
DTSTART:20241103T070000
END:STANDARD
END:VTIMEZONE
BEGIN:VEVENT
DTSTART;TZID=America/Chicago:20230801T183000
DTEND;TZID=America/Chicago:20230801T200000
DTSTAMP:20260425T174909
CREATED:20230709T214222Z
LAST-MODIFIED:20230801T214317Z
UID:2129-1690914600-1690920000@runyourstory.com
SUMMARY:Crime Prevention 5k Run/Walk 2023
DESCRIPTION:Organized by and benefitting the Mobile Police Department \nPre-register by mail (entries should be postmarked by July 21)\, in person at McCoy Outdoor\, Run-N-Tri\, or Fleet Feet in Mobile until noon July 31. \nRegistration Form \n 
URL:https://runyourstory.com/event/crime-prevention-5k-run-walk-2023/
LOCATION:Bienville Square\, 150 Dauphin St.\, Mobile\, AL\, 36607\, United States
CATEGORIES:5k
ATTACH;FMTTYPE=image/jpeg:https://runyourstory.com/wp-content/uploads/2023/07/Mobile-Police-Department.jpg
END:VEVENT
BEGIN:VEVENT
DTSTART;TZID=America/Chicago:20230812T073000
DTEND;TZID=America/Chicago:20230812T090000
DTSTAMP:20260425T174909
CREATED:20230801T211120Z
LAST-MODIFIED:20230801T214257Z
UID:2113-1691825400-1691830800@runyourstory.com
SUMMARY:Satsuma 2-Miler 2023
DESCRIPTION:Grand Prix and Corporate Cup Awards Celebration \n\n6:15 –  7:15 AM – Race day registration and packet pick-up\n7:30AM – Race Start\n8:30 AM (approx) – Awards\n\nRegister by mail (entries should be postmarked by August 5)\, online at events.com until 4 AM August 11\, or in person at McCoy Outdoor\, Run-N-Tri\, or Fleet Feet in Mobile until noon on August 10. Packet pick-up and race day registration will be available at the Satsuma Community Center from 6:15 – 7:15 AM. \nWe will be clearing out awards from previous races – award winners will be able to select their award from an award assortment. Top male and female Overall\, Masters\, Grandmasters\, Senior Grandmasters\, and Walker (walkers do not run at all during the race). Top three male and female in age groups: 9 and under\, 10-14\, 15-19\, 20-24\, 25-29\, 30-34\, 35-39\, 40-44\, 45-49\, 50-54\, 55-59\, 60-64\, 65-69\, 70-74\, 75-79\, and 80+
URL:https://runyourstory.com/event/satsuma-2-miler-2023/
LOCATION:Satsuma Community Center\, 368 Juniper Ave\, Satsuma\, AL\, 36572\, United States
CATEGORIES:2-Miler
ATTACH;FMTTYPE=image/png:https://runyourstory.com/wp-content/uploads/2023/08/SATSUMA-2-MILER-Banner.png
END:VEVENT
BEGIN:VEVENT
DTSTART;TZID=America/Chicago:20230819T073000
DTEND;TZID=America/Chicago:20230819T090000
DTSTAMP:20260425T174909
CREATED:20230709T215214Z
LAST-MODIFIED:20230801T214251Z
UID:2135-1692430200-1692435600@runyourstory.com
SUMMARY:Land Rush 5k and Fun Run 2023
DESCRIPTION:Organized by the City of Saraland Parks and Recreation Department and Benefitting Saraland Cross Country. \nRegistration
URL:https://runyourstory.com/event/land-rush-5k-and-fun-run-2023/
LOCATION:Amelia Park\, 716 Mae Street\, Saraland\, AL\, 36571\, United States
CATEGORIES:5k
ATTACH;FMTTYPE=image/jpeg:https://runyourstory.com/wp-content/uploads/2023/07/LandRush23.jpg
END:VEVENT
END:VCALENDAR