BEGIN:VCALENDAR
VERSION:2.0
PRODID:-//Run Your Story - ECPv6.15.20//NONSGML v1.0//EN
CALSCALE:GREGORIAN
METHOD:PUBLISH
X-ORIGINAL-URL:https://runyourstory.com
X-WR-CALDESC:Events for Run Your Story
REFRESH-INTERVAL;VALUE=DURATION:PT1H
X-Robots-Tag:noindex
X-PUBLISHED-TTL:PT1H
BEGIN:VTIMEZONE
TZID:America/Chicago
BEGIN:DAYLIGHT
TZOFFSETFROM:-0600
TZOFFSETTO:-0500
TZNAME:CDT
DTSTART:20220313T080000
END:DAYLIGHT
BEGIN:STANDARD
TZOFFSETFROM:-0500
TZOFFSETTO:-0600
TZNAME:CST
DTSTART:20221106T070000
END:STANDARD
BEGIN:DAYLIGHT
TZOFFSETFROM:-0600
TZOFFSETTO:-0500
TZNAME:CDT
DTSTART:20230312T080000
END:DAYLIGHT
BEGIN:STANDARD
TZOFFSETFROM:-0500
TZOFFSETTO:-0600
TZNAME:CST
DTSTART:20231105T070000
END:STANDARD
BEGIN:DAYLIGHT
TZOFFSETFROM:-0600
TZOFFSETTO:-0500
TZNAME:CDT
DTSTART:20240310T080000
END:DAYLIGHT
BEGIN:STANDARD
TZOFFSETFROM:-0500
TZOFFSETTO:-0600
TZNAME:CST
DTSTART:20241103T070000
END:STANDARD
END:VTIMEZONE
BEGIN:VEVENT
DTSTART;TZID=America/Chicago:20230718T180000
DTEND;TZID=America/Chicago:20230718T193000
DTSTAMP:20260425T174909
CREATED:20230710T123301Z
LAST-MODIFIED:20230801T214340Z
UID:2162-1689703200-1689708600@runyourstory.com
SUMMARY:RunGood Fostering Together 2023
DESCRIPTION:At our next #RunGood bring some school supplies to donate to @ fosteringtogethergc\nThank You Fostering Together GC for providing a list of supplies needed to help the families of students.\n\n\nDon’t forget to mark your calendars for July 18th at 6:00pm @ dogoodsmercantileco\nCome early to shop.\n\nTogether let’s learn about an amazing non-profit that helps foster families.\nThen hit the pavement in your favorite way.
URL:https://runyourstory.com/event/rungood-fostering-together-2023/
LOCATION:Do Goods Mercantile\, 202 St. Michael Street\, Mobile\, AL\, 36602\, United States
CATEGORIES:2-Miler,8k
ATTACH;FMTTYPE=image/jpeg:https://runyourstory.com/wp-content/uploads/2023/07/RunGood-Fostering-Together.jpg
ORGANIZER;CN="Run Your Story":MAILTO:allison@runyourstory.com
END:VEVENT
BEGIN:VEVENT
DTSTART;TZID=America/Chicago:20230730T073000
DTEND;TZID=America/Chicago:20230730T093000
DTSTAMP:20260425T174909
CREATED:20230709T210904Z
LAST-MODIFIED:20230801T214329Z
UID:2109-1690702200-1690709400@runyourstory.com
SUMMARY:Running to Rescue 2023
DESCRIPTION:July 30th is World Day Against Human Trafficking. Human Trafficking is the fastest growing criminal enterprise in the WORLD. How? You can sell a bag of drugs once\, but sell a child 5 to 8 times a day. \n\n\n\nTo recognize that this is an issue our state and community faces\, we wanted to create an event that helps raise funds for a survivor scholarship. For every $5 that is donated\, we pledge to run/walk a mile. The morning of the 30th we encourage individuals to come out\, runner or not\, as a way to raise awareness and pray for the victims and survivors that face this horrific crime. We plan to kick off the event at 7:30am with praise and worship with our run/walk following around 8am.\n\n\n\nThis event is being hosted by Stopping Traffick and Run Your Story. Whether you want to lace up your running shoes or donate to help raise awareness\, we encourage you to participate in any way you can. Together\, we can make a difference. We can be the change. We can Run to Rescue.\n\n\n\nTo donate or sign up to help log mileage\, head over to https://runyourstory.com/community/stopping-traffick/ for more information.\n\n\n\nPlease share and help us get the word out! We are so excited and hope to see you there.
URL:https://runyourstory.com/event/running-to-rescue-2023/
LOCATION:MGM High School\, 4275 Snow Road\, Semmes\, AL\, 36575\, United States
CATEGORIES:5k,Trail
ATTACH;FMTTYPE=image/png:https://runyourstory.com/wp-content/uploads/2023/07/Stopping-Traffick-logo.png
ORGANIZER;CN="Stopping Traffick":MAILTO:info.stoppingtraffick@gmail.com
END:VEVENT
END:VCALENDAR