BEGIN:VCALENDAR
VERSION:2.0
PRODID:-//Run Your Story - ECPv6.15.20//NONSGML v1.0//EN
CALSCALE:GREGORIAN
METHOD:PUBLISH
X-ORIGINAL-URL:https://runyourstory.com
X-WR-CALDESC:Events for Run Your Story
REFRESH-INTERVAL;VALUE=DURATION:PT1H
X-Robots-Tag:noindex
X-PUBLISHED-TTL:PT1H
BEGIN:VTIMEZONE
TZID:America/Chicago
BEGIN:DAYLIGHT
TZOFFSETFROM:-0600
TZOFFSETTO:-0500
TZNAME:CDT
DTSTART:20220313T080000
END:DAYLIGHT
BEGIN:STANDARD
TZOFFSETFROM:-0500
TZOFFSETTO:-0600
TZNAME:CST
DTSTART:20221106T070000
END:STANDARD
BEGIN:DAYLIGHT
TZOFFSETFROM:-0600
TZOFFSETTO:-0500
TZNAME:CDT
DTSTART:20230312T080000
END:DAYLIGHT
BEGIN:STANDARD
TZOFFSETFROM:-0500
TZOFFSETTO:-0600
TZNAME:CST
DTSTART:20231105T070000
END:STANDARD
BEGIN:DAYLIGHT
TZOFFSETFROM:-0600
TZOFFSETTO:-0500
TZNAME:CDT
DTSTART:20240310T080000
END:DAYLIGHT
BEGIN:STANDARD
TZOFFSETFROM:-0500
TZOFFSETTO:-0600
TZNAME:CST
DTSTART:20241103T070000
END:STANDARD
END:VTIMEZONE
BEGIN:VEVENT
DTSTART;TZID=America/Chicago:20230107T073000
DTEND;TZID=America/Chicago:20230107T100000
DTSTAMP:20260425T063947
CREATED:20230220T022049Z
LAST-MODIFIED:20230801T215140Z
UID:1218-1673076600-1673085600@runyourstory.com
SUMMARY:Pensacola Beach Run Half Marathon & 10k 2023
DESCRIPTION:Organized by the Pensacola Runners Association
URL:https://runyourstory.com/event/pensacola-beach-run-half-marathon-10k-2023/
LOCATION:Casino Beach\, 3 Casino Beach Boardwalk\, Pensacola Beach\, FL\, 32561\, United States
CATEGORIES:10k,Half Marathon
ATTACH;FMTTYPE=image/jpeg:https://runyourstory.com/wp-content/uploads/2023/01/pbr-logo.jpg
ORGANIZER;CN="Little Red Hen Productions":MAILTO:mlolive@bellsouth.net
END:VEVENT
BEGIN:VEVENT
DTSTART;TZID=America/Chicago:20230107T080000
DTEND;TZID=America/Chicago:20230107T100000
DTSTAMP:20260425T063947
CREATED:20230220T022706Z
LAST-MODIFIED:20230801T215126Z
UID:1221-1673078400-1673085600@runyourstory.com
SUMMARY:Miles for Missions 5k 2023
DESCRIPTION:Organized by Eastern Shore Baptist Church and benefitting the Youth Choir of the Eastern Shore Baptist Church. \nOnline through 10:00 PM January 26\, received by mail at the church by January 25\, or walk-in at Eastern Shore Baptist Church (6847 Park Drive\, Daphne\, AL) by January 25 at 5:00 PM. Forms and fees may be dropped off at McCoys Outdoor\, Run-N-Tri\, or Fleet Feet in Mobile until noon on January 26\, 2023. \nOnline Registration is accepted through 10 PM on January 26. Early packet pick-up and late registration available on Friday\, January 27\, at the Eastern Shore Baptist Church from 3 – 6 PM. Race day packet pick-up and race day registration are available from 7 – 7:45 AM at Daphne City Hall.
URL:https://runyourstory.com/event/miles-for-missions-5k-2023/
LOCATION:Daphne City Hall\, 1705 Main Street\, Daphne\, AL\, 36526\, United States
CATEGORIES:5k
ATTACH;FMTTYPE=image/jpeg:https://runyourstory.com/wp-content/uploads/2023/02/Miles-for-Missions-5k-logo.jpg
ORGANIZER;CN="Little Red Hen Productions":MAILTO:mlolive@bellsouth.net
END:VEVENT
BEGIN:VEVENT
DTSTART;TZID=America/Chicago:20230108T073000
DTEND;TZID=America/Chicago:20230108T110000
DTSTAMP:20260425T063947
CREATED:20221022T213522Z
LAST-MODIFIED:20230801T215121Z
UID:398-1673163000-1673175600@runyourstory.com
SUMMARY:Mobile Half Marathon 2023
DESCRIPTION:For 2023\, we will only feature a Half Marathon. \nWe also have a 1.2 Mile Fun Run! \nAll events benefit First Light Community Foundation of Mobile (Formerly L’Arche Mobile Foundation).  First Light Community of Mobile is an organization where people with and without intellectual disabilities share life together.  Currently\, we have 25 people with disabilities and 50 team members that share life in midtown Mobile. \nVisit the First Light Community Website (formerly L’Arche Mobile) https://firstlightcommunity.org/ \n 
URL:https://runyourstory.com/event/mobile-half-marathon-2023/
LOCATION:Holiday Inn\, 301 Government St.\, Mobile\, AL\, 36602\, United States
CATEGORIES:Half Marathon
ATTACH;FMTTYPE=image/png:https://runyourstory.com/wp-content/uploads/2023/01/Mobile-Half-Marathon-logo.png
END:VEVENT
BEGIN:VEVENT
DTSTART;VALUE=DATE:20230115
DTEND;VALUE=DATE:20230116
DTSTAMP:20260425T063947
CREATED:20221117T025755Z
LAST-MODIFIED:20230801T215114Z
UID:501-1673740800-1673827199@runyourstory.com
SUMMARY:Azalea Trail Run 10-Week Training Begins 2023
DESCRIPTION:Training begins this week for the Azalea Trail Run!
URL:https://runyourstory.com/event/azalea-trail-run-10-week-training-begins-2023/
LOCATION:AL
CATEGORIES:10k,5k
ATTACH;FMTTYPE=image/png:https://runyourstory.com/wp-content/uploads/2022/11/Azalea-Trail-Run-logo.png
END:VEVENT
BEGIN:VEVENT
DTSTART;TZID=America/Chicago:20230128T073000
DTEND;TZID=America/Chicago:20230128T110000
DTSTAMP:20260425T063947
CREATED:20230220T022915Z
LAST-MODIFIED:20230801T215107Z
UID:1225-1674891000-1674903600@runyourstory.com
SUMMARY:Casino Bridge Run 5k/10k 2023
DESCRIPTION:COME JOIN US FOR THE BEST 10K & 5K ON THE MISSISSIPPI GULF COAST! \nTHE FIRST 350 TO REGISTER WILL RECEIVE A CUSTOM FULLY SUBLIMATED LONG-SLEEVED TECH SHIRT. (LAST YEAR WE HAD OVER 1400 PEOPLE REGISTER) \nAFTER THE FIRST 350 REGISTRANTS\, EVERYONE ELSE WILL GET A LONG-SLEEVED TECH SHIRT. \nALL RUNNERS AND WALKERS WILL RECEIVE A CUSTOM FINISHERS MEDAL! THE TOP 3 MALE AND FEMALE FINISHERS IN 5-YEAR AGE GROUPS IN ALL EVENTS WILL RECEIVE CUSTOM AGE GROUP AWARDS. \nAFTER THE RACE\, JOIN US FOR FREE BEER AND REFRESHMENTS. DJ BLAZE – THE BEST DJ ON THE GULF COAST – WILL BE PLAYING MUSIC AT THE POOL. THE POOL AND THE JACUZZI WILL BE HEATED AND AVAILABLE TO RUNNERS/WALKERS. \nA PORTION OF THE PROCEEDS FROM THIS EVENT GO TO  FURREVER HOMES RESCUE \nOnline Registration  Online registration open until 8 AM on Thursday\, January 26. Packet pick-up and late registration at the Golden Nugget on Friday\, January 27. Race day registration at the Golden Nugget Casino Pool in Biloxi from 6:00 – 7:30 AM.
URL:https://runyourstory.com/event/casino-bridge-run-5k-10k-2023/
LOCATION:Golden Nugget Biloxi Hotel & Casino\, 151 Beach Blvd\, Biloxi\, MS\, 39530\, United States
CATEGORIES:10k,5k
ATTACH;FMTTYPE=image/jpeg:https://runyourstory.com/wp-content/uploads/2022/10/Casino-Bridge-Run-logo.jpg
ORGANIZER;CN="Harley Sports":MAILTO:info@harleysports.com
END:VEVENT
END:VCALENDAR