BEGIN:VCALENDAR
VERSION:2.0
PRODID:-//Run Your Story - ECPv6.15.20//NONSGML v1.0//EN
CALSCALE:GREGORIAN
METHOD:PUBLISH
X-WR-CALNAME:Run Your Story
X-ORIGINAL-URL:https://runyourstory.com
X-WR-CALDESC:Events for Run Your Story
REFRESH-INTERVAL;VALUE=DURATION:PT1H
X-Robots-Tag:noindex
X-PUBLISHED-TTL:PT1H
BEGIN:VTIMEZONE
TZID:America/Chicago
BEGIN:DAYLIGHT
TZOFFSETFROM:-0600
TZOFFSETTO:-0500
TZNAME:CDT
DTSTART:20210314T080000
END:DAYLIGHT
BEGIN:STANDARD
TZOFFSETFROM:-0500
TZOFFSETTO:-0600
TZNAME:CST
DTSTART:20211107T070000
END:STANDARD
BEGIN:DAYLIGHT
TZOFFSETFROM:-0600
TZOFFSETTO:-0500
TZNAME:CDT
DTSTART:20220313T080000
END:DAYLIGHT
BEGIN:STANDARD
TZOFFSETFROM:-0500
TZOFFSETTO:-0600
TZNAME:CST
DTSTART:20221106T070000
END:STANDARD
BEGIN:DAYLIGHT
TZOFFSETFROM:-0600
TZOFFSETTO:-0500
TZNAME:CDT
DTSTART:20230312T080000
END:DAYLIGHT
BEGIN:STANDARD
TZOFFSETFROM:-0500
TZOFFSETTO:-0600
TZNAME:CST
DTSTART:20231105T070000
END:STANDARD
BEGIN:DAYLIGHT
TZOFFSETFROM:-0600
TZOFFSETTO:-0500
TZNAME:CDT
DTSTART:20240310T080000
END:DAYLIGHT
BEGIN:STANDARD
TZOFFSETFROM:-0500
TZOFFSETTO:-0600
TZNAME:CST
DTSTART:20241103T070000
END:STANDARD
END:VTIMEZONE
BEGIN:VEVENT
DTSTART;VALUE=DATE:20230115
DTEND;VALUE=DATE:20230116
DTSTAMP:20260422T133543
CREATED:20221117T025755Z
LAST-MODIFIED:20230801T215114Z
UID:501-1673740800-1673827199@runyourstory.com
SUMMARY:Azalea Trail Run 10-Week Training Begins 2023
DESCRIPTION:Training begins this week for the Azalea Trail Run!
URL:https://runyourstory.com/event/azalea-trail-run-10-week-training-begins-2023/
LOCATION:FL
CATEGORIES:10k,5k
ATTACH;FMTTYPE=image/png:https://runyourstory.com/wp-content/uploads/2022/11/Azalea-Trail-Run-logo.png
END:VEVENT
BEGIN:VEVENT
DTSTART;TZID=America/Chicago:20230107T080000
DTEND;TZID=America/Chicago:20230107T100000
DTSTAMP:20260422T133543
CREATED:20230220T022706Z
LAST-MODIFIED:20230801T215126Z
UID:1221-1673078400-1673085600@runyourstory.com
SUMMARY:Miles for Missions 5k 2023
DESCRIPTION:Organized by Eastern Shore Baptist Church and benefitting the Youth Choir of the Eastern Shore Baptist Church. \nOnline through 10:00 PM January 26\, received by mail at the church by January 25\, or walk-in at Eastern Shore Baptist Church (6847 Park Drive\, Daphne\, AL) by January 25 at 5:00 PM. Forms and fees may be dropped off at McCoys Outdoor\, Run-N-Tri\, or Fleet Feet in Mobile until noon on January 26\, 2023. \nOnline Registration is accepted through 10 PM on January 26. Early packet pick-up and late registration available on Friday\, January 27\, at the Eastern Shore Baptist Church from 3 – 6 PM. Race day packet pick-up and race day registration are available from 7 – 7:45 AM at Daphne City Hall.
URL:https://runyourstory.com/event/miles-for-missions-5k-2023/
LOCATION:Daphne City Hall\, 1705 Main Street\, Daphne\, AL\, 36526\, United States
CATEGORIES:5k
ATTACH;FMTTYPE=image/jpeg:https://runyourstory.com/wp-content/uploads/2023/02/Miles-for-Missions-5k-logo.jpg
ORGANIZER;CN="Little Red Hen Productions":MAILTO:mlolive@bellsouth.net
END:VEVENT
BEGIN:VEVENT
DTSTART;TZID=America/Chicago:20221210T080000
DTEND;TZID=America/Chicago:20221210T100000
DTSTAMP:20260422T133543
CREATED:20230211T205217Z
LAST-MODIFIED:20230801T215148Z
UID:1032-1670659200-1670666400@runyourstory.com
SUMMARY:Reindeer Run 5k 2022
DESCRIPTION:Sponsored by and benefitting:\nFirst Baptist Church of Satsuma and Satsuma High School Cross Country \nRegister by mail (entries should be postmarked by December 4)\, in person at First Baptist Church of Satsuma\, McCoy Outdoor\, Run-N-Tri\, or Fleet Feet in Mobile in Fairhope until noon on December 8. \nOnline Registration  until 6 AM December 9. Race day registration and Packet Pick-up at Baldwin Square from 7 – 7:45 AM. \nMake check payable to: First Baptist Church of Satsuma Send application and fees to:\nFBC Satsuma\nP.O. Box 557\nSatsuma\, AL 36572
URL:https://runyourstory.com/event/reindeer-run-5k-2022/
LOCATION:Baldwin Square\, 50 E Orange Ave\, Satsuma\, AL\, 36572\, United States
CATEGORIES:5k
ATTACH;FMTTYPE=image/jpeg:https://runyourstory.com/wp-content/uploads/2023/02/Reindeer-Run-Logo.jpg
ORGANIZER;CN="Little Red Hen Productions":MAILTO:mlolive@bellsouth.net
END:VEVENT
BEGIN:VEVENT
DTSTART;TZID=America/Chicago:20221124T080000
DTEND;TZID=America/Chicago:20221124T100000
DTSTAMP:20260422T133543
CREATED:20230204T170520Z
LAST-MODIFIED:20230801T215210Z
UID:874-1669276800-1669284000@runyourstory.com
SUMMARY:Turkey Trot 2022
DESCRIPTION:Run the Turkey Trot for Hope certified 5k or 1-mile Gobble Wobble with us on Thanksgiving Day in Mobile\, Alabama! Your registration supports Rapahope\, a non-profit organization that offers free year-round programming\, for families battling childhood cancer. Our goal is to help children with cancer have life-changing camp experiences filled with as many amazing moments as possible. Our programs are possible through the generosity of sponsors\, volunteers\, and fundraisers like the Turkey Trot for Hope
URL:https://runyourstory.com/event/turkey-trot-2022/
LOCATION:Mardi Gras Park\, 104 S Royal St\, Mobile\, AL\, 36602\, United States
CATEGORIES:5k
ATTACH;FMTTYPE=image/png:https://runyourstory.com/wp-content/uploads/2023/02/Turkey-Trot-2022-logo.png
ORGANIZER;CN="RapAHope":MAILTO:info@rapahope.org
END:VEVENT
BEGIN:VEVENT
DTSTART;TZID=America/Chicago:20221119T080000
DTEND;TZID=America/Chicago:20221119T113000
DTSTAMP:20260422T133543
CREATED:20221022T211552Z
LAST-MODIFIED:20230801T215216Z
UID:384-1668844800-1668857400@runyourstory.com
SUMMARY:Turkey 10-miler/10k/5k 2022
DESCRIPTION:Benefiting Creola Police & Rescue\, the River Delta Marina\, and local foodbanks.\nPlease bring canned or packaged non-perishable food to the race or consider a monetary donation to the food banks. \n\n\n\n\nPre-register by mail (entries should be postmarked by November 12th)\, in person at McCoy Outdoor\, Run-N-Tri\, or Fleet Feet in Mobile or Running Wild in Fairhope until noon on November 18th or online until 4AM November 18th.
URL:https://runyourstory.com/event/turkey-10-miler-10k-5k-2022/
LOCATION:River Delta Marina & Campground\, 2350 Dead Lake Rd\, Creola\, AL\, 36525\, United States
CATEGORIES:10-Miler,10k,5k
ATTACH;FMTTYPE=image/png:https://runyourstory.com/wp-content/uploads/2023/01/Turkey-10-logo.png
END:VEVENT
BEGIN:VEVENT
DTSTART;TZID=America/Chicago:20221008T080000
DTEND;TZID=America/Chicago:20221008T103000
DTSTAMP:20260422T133543
CREATED:20221022T205611Z
LAST-MODIFIED:20230801T215235Z
UID:366-1665216000-1665225000@runyourstory.com
SUMMARY:Bras Across the CAUSEway 5k 2022
DESCRIPTION:Join us on October 8\, at 8:00 AM in Meaher State Park for our 5K and 1-mile Fun Run. \nRegister by mail (entries should be postmarked by October 1st)\, in person at McCoy Outdoor\,\nRun-N-Tri\, or Fleet Feet in Mobile until noon on October 6th\, or online through Events.com until 4 AM on October 7th.\nWalk-up registration is welcome at Meaher State Park on the day of. \nPacket pick-up and race day registration at Meaher State Park from 6:30 AM to 7:50 AM.
URL:https://runyourstory.com/event/bras-across-the-causeway-5k-2022/
LOCATION:Meaher State Park\, 5200 Battleship Pkwy\, Spanish Fort\, AL\, 36527\, United States
CATEGORIES:5k
ATTACH;FMTTYPE=image/png:https://runyourstory.com/wp-content/uploads/2023/01/BATC-Logo.png
ORGANIZER;CN="Bras Across the CAUSEway":MAILTO:hello@brasacrossthecauseway.org
END:VEVENT
BEGIN:VEVENT
DTSTART;TZID=America/Chicago:20220917T080000
DTEND;TZID=America/Chicago:20220917T110000
DTSTAMP:20260422T133543
CREATED:20221022T210703Z
LAST-MODIFIED:20230801T215241Z
UID:376-1663401600-1663412400@runyourstory.com
SUMMARY:GO Run 5k 2022
DESCRIPTION:The 15th Annual GO Run 5K Race and 1-Mile Fun Run is returning to an in-person event on Saturday\, Sept. 17\, 2022! The event will take place on the campus of the University of South Alabama in an all-new location\, starting and finishing near Hancock Whitney Stadium. \nProceeds from the GO Run\, presented by the Catranis Family Charitable Foundation\, support revolutionary gynecologic cancer research happening at USA Health Mitchell Cancer Institute. Early detection\, prevention\, and treatment advancements are continuing thanks in part to the long-standing community support that GO Run receives. Mark your calendar and gather your team. \nIf you have any questions about the race format or the packet pick-up schedule\, please email cristinwaite@southalabama.edu. \nTeam up with your friends\, family\, and co-workers for a chance to win one of our coveted team awards — Highest Fundraising Team\, Most Team Spirit\, Best Dressed Team\, and Largest Team. You will have the option to join or create a team during registration.
URL:https://runyourstory.com/event/go-run-5k-2022/
LOCATION:Hancock Whitney Stadium\, 500 Stadium Drive\, Mobile\, AL\, 36608\, United States
CATEGORIES:5k
ATTACH;FMTTYPE=image/png:https://runyourstory.com/wp-content/uploads/2023/01/GO-Run-logo.png
END:VEVENT
BEGIN:VEVENT
DTSTART;TZID=America/Chicago:20220910T081000
DTEND;TZID=America/Chicago:20220910T100000
DTSTAMP:20260422T133543
CREATED:20221022T210101Z
LAST-MODIFIED:20230801T215248Z
UID:370-1662797400-1662804000@runyourstory.com
SUMMARY:Hurricane Run 5k 2022
DESCRIPTION:The Port City Pacers will host the Hurricane Run 5K at the Dauphin Island Sea Lab. Come out and race through the neighborhoods of Dauphin Island to benefit the Dauphin Island Fire and Rescue. There will also be a 1.5-mile fun run to start at 9 a.m. The awards presentation will start at approximately 9:30 a.m. and there will be fabulous food\, fun\, and beverages provided after the race. \nPre-register by mail (entries should be postmarked by September 3rd)\, in person at McCoy Outdoor\, Run-N-Tri\, Fleet Feet in Mobile\, or Running Wild in Fairhope until noon on September 8  or online until 4AM September 9 (available soon). \nRace participants will receive short-sleeved moisture management tee shirts. Shirts will be sized for men and women. Tee shirts are available on race day while supplies last. Shirts will not be reordered after the race.
URL:https://runyourstory.com/event/hurricane-run-5k-2022/
LOCATION:Dauphin Island Sea Lab\, 101 Bienville Blvd\, Dauphin Island\, AL\, 36528\, United States
CATEGORIES:5k
ATTACH;FMTTYPE=image/jpeg:https://runyourstory.com/wp-content/uploads/2023/01/DIFR_Logo.jpg
END:VEVENT
BEGIN:VEVENT
DTSTART;TZID=America/Chicago:20220704T080000
DTEND;TZID=America/Chicago:20220704T170000
DTSTAMP:20260422T133543
CREATED:20221022T203458Z
LAST-MODIFIED:20230801T215301Z
UID:353-1656921600-1656954000@runyourstory.com
SUMMARY:SHARK Run 5k 2022
DESCRIPTION:This is an Independence Day Tradition you don’t want to miss! \nEverybody gets a Finishers Medal – For ALL events \nThe BEST DJ – Awards Finishers Party On The Gulf Coast \nCustom Age Group Award medals – for the 5K Run/Walk (5 Year increments for Both The 5K Run and the Walk)
URL:https://runyourstory.com/event/shark-run-5k-2022/
LOCATION:The Wharf\, 23101 Canal Rd\, Orange Beach\, AL\, 36561\, United States
CATEGORIES:5k
ATTACH;FMTTYPE=image/jpeg:https://runyourstory.com/wp-content/uploads/2023/01/Shark-Run-5k-logo.jpg
ORGANIZER;CN="Harley Sports":MAILTO:info@harleysports.com
END:VEVENT
END:VCALENDAR