BEGIN:VCALENDAR
VERSION:2.0
PRODID:-//Run Your Story - ECPv6.15.20//NONSGML v1.0//EN
CALSCALE:GREGORIAN
METHOD:PUBLISH
X-WR-CALNAME:Run Your Story
X-ORIGINAL-URL:https://runyourstory.com
X-WR-CALDESC:Events for Run Your Story
REFRESH-INTERVAL;VALUE=DURATION:PT1H
X-Robots-Tag:noindex
X-PUBLISHED-TTL:PT1H
BEGIN:VTIMEZONE
TZID:America/Chicago
BEGIN:DAYLIGHT
TZOFFSETFROM:-0600
TZOFFSETTO:-0500
TZNAME:CDT
DTSTART:20210314T080000
END:DAYLIGHT
BEGIN:STANDARD
TZOFFSETFROM:-0500
TZOFFSETTO:-0600
TZNAME:CST
DTSTART:20211107T070000
END:STANDARD
BEGIN:DAYLIGHT
TZOFFSETFROM:-0600
TZOFFSETTO:-0500
TZNAME:CDT
DTSTART:20220313T080000
END:DAYLIGHT
BEGIN:STANDARD
TZOFFSETFROM:-0500
TZOFFSETTO:-0600
TZNAME:CST
DTSTART:20221106T070000
END:STANDARD
BEGIN:DAYLIGHT
TZOFFSETFROM:-0600
TZOFFSETTO:-0500
TZNAME:CDT
DTSTART:20230312T080000
END:DAYLIGHT
BEGIN:STANDARD
TZOFFSETFROM:-0500
TZOFFSETTO:-0600
TZNAME:CST
DTSTART:20231105T070000
END:STANDARD
BEGIN:DAYLIGHT
TZOFFSETFROM:-0600
TZOFFSETTO:-0500
TZNAME:CDT
DTSTART:20240310T080000
END:DAYLIGHT
BEGIN:STANDARD
TZOFFSETFROM:-0500
TZOFFSETTO:-0600
TZNAME:CST
DTSTART:20241103T070000
END:STANDARD
END:VTIMEZONE
BEGIN:VEVENT
DTSTART;TZID=America/Chicago:20231209T083000
DTEND;TZID=America/Chicago:20231210T180000
DTSTAMP:20260424T214015
CREATED:20230710T132030Z
LAST-MODIFIED:20230801T213831Z
UID:2186-1702110600-1702231200@runyourstory.com
SUMMARY:BMW Dallas Marathon Festival 2023
DESCRIPTION:The BMW Dallas Marathon Festival is a nonprofit organization with a focus on promoting health and physical fitness through running events and related activities. Established in 1971\, the history of the organization encompasses tremendous growth and produces what has become Dallas’ largest and Texas’ longest running marathon\, the BMW Dallas Marathon\, as well as several other weekend event options including a Half Marathon\, Half Marathon Walk\, 50K Ultra Marathon\, 2-person half marathon relay\, 5-person marathon relay\, 10K\, 5K\, a 5K Team Challenge\, 5K Walk\, the Friday Night Lights Mile and various Kids Races. \nRunning and walking in the BMW Dallas Marathon Festival highlights the city’s most vibrant neighborhoods\, entertainment districts and iconic Dallas landmarks. Tens of thousands of spectators join in BMW Dallas Marathon Day – the second Sunday of December – lining the streets and neighborhoods to cheer on participants in a race that is recognized as the official marathon of the City of Dallas. \nSince naming a primary beneficiary in 1997\, the BMW Dallas Marathon Festival has donated more than $4 million to Scottish Rite for Children.
URL:https://runyourstory.com/event/bmw-dallas-marathon-festival-2023/
LOCATION:AL
CATEGORIES:10k,2-Miler,5k,Half Marathon,Marathon
ATTACH;FMTTYPE=image/jpeg:https://runyourstory.com/wp-content/uploads/2023/07/Run-Dallas-Logo.jpg
END:VEVENT
BEGIN:VEVENT
DTSTART;TZID=America/Chicago:20231021T170000
DTEND;TZID=America/Chicago:20231021T200000
DTSTAMP:20260424T214015
CREATED:20230818T223613Z
LAST-MODIFIED:20230818T223613Z
UID:2327-1697907600-1697918400@runyourstory.com
SUMMARY:Boo Krewe 2 2023
DESCRIPTION:Come join us for a certified 2-mile course in South Mobile County on Mobile Bay\, benefitting local adaptive athletes. Costumes encouraged! \nBenefits: \nKrewe of Kindness Adaptive Athletes \nKrewe of Kindness www.kreweofkindness.com. Proceeds will benefit participation for athletes with disabilities (AWD) in the Azalea Trail Run and other local races. The mission of KOK is to support inclusive recreation so that families and friends can play on the same field. KOK also supports programs at USACW and the DI Sea Lab. \nRace time: \n5 PM \nLocation: \nIsland Fire Art Gallery 10505 Dauphin Island Parkway Theodore AL 36582 \nRegistration: \nRegister by mail (entries should be postmarked by October 14\, 2023)\, in person at McCoy Outdoor\, Run-N-Tri\, or Fleet Feet in Mobile until noon on October 18\, or online until October 21 at 6 AM. Packet pick up and registration will be available at Island Fire from 12 PM-5:30 PM Friday and 3:45-4:45 PM on Saturday. \nEntry Fees: \nPre-register: Adults: $20; Children (12 and under): $15 \nDay of Race: Adults: $25; Children (12 and under): $20 \n*Entry fee includes race shirt and post-race Boo Krewe party! \nShirts: \nTo guarantee a shirt on race day\, you must register by October 4\, 2023.\nAwards: \nTop three male and female in AWD categories: push rim\, hand cycle\, and duo. Top male and female overall and race walkers\, top three male and female in age groups: 9 and under\, 10-14\, 15-19\, 20-24\, 25-29\, 30-34\, 35-39\, 40-44\, 45-49\, 50-54\, 55-59\, 60-64\, 65-69\, and 70-99 \nPost-Race Party: \nAwards\, food\, and beverage provided after the race. Food trucks and children’s entertainment will be provided! Raffle\, costume contest and door prizes! \nFor more information: \nContact Jenni Zimlich at 251-604-7062 or Jenni@kreweofkindness.com
URL:https://runyourstory.com/event/boo-krewe-2-2023/
LOCATION:Island Fire Glass Gallery and Coffee Shop\, 10505 Dauphin Island Parkway\, Theodore\, AL\, 36582\, United States
CATEGORIES:2-Miler
ATTACH;FMTTYPE=image/png:https://runyourstory.com/wp-content/uploads/2023/04/KOKLogo.png
END:VEVENT
BEGIN:VEVENT
DTSTART;TZID=America/Chicago:20230812T073000
DTEND;TZID=America/Chicago:20230812T090000
DTSTAMP:20260424T214015
CREATED:20230801T211120Z
LAST-MODIFIED:20230801T214257Z
UID:2113-1691825400-1691830800@runyourstory.com
SUMMARY:Satsuma 2-Miler 2023
DESCRIPTION:Grand Prix and Corporate Cup Awards Celebration \n\n6:15 –  7:15 AM – Race day registration and packet pick-up\n7:30AM – Race Start\n8:30 AM (approx) – Awards\n\nRegister by mail (entries should be postmarked by August 5)\, online at events.com until 4 AM August 11\, or in person at McCoy Outdoor\, Run-N-Tri\, or Fleet Feet in Mobile until noon on August 10. Packet pick-up and race day registration will be available at the Satsuma Community Center from 6:15 – 7:15 AM. \nWe will be clearing out awards from previous races – award winners will be able to select their award from an award assortment. Top male and female Overall\, Masters\, Grandmasters\, Senior Grandmasters\, and Walker (walkers do not run at all during the race). Top three male and female in age groups: 9 and under\, 10-14\, 15-19\, 20-24\, 25-29\, 30-34\, 35-39\, 40-44\, 45-49\, 50-54\, 55-59\, 60-64\, 65-69\, 70-74\, 75-79\, and 80+
URL:https://runyourstory.com/event/satsuma-2-miler-2023/
LOCATION:Satsuma Community Center\, 368 Juniper Ave\, Satsuma\, AL\, 36572\, United States
CATEGORIES:2-Miler
ATTACH;FMTTYPE=image/png:https://runyourstory.com/wp-content/uploads/2023/08/SATSUMA-2-MILER-Banner.png
END:VEVENT
BEGIN:VEVENT
DTSTART;TZID=America/Chicago:20230718T180000
DTEND;TZID=America/Chicago:20230718T193000
DTSTAMP:20260424T214015
CREATED:20230710T123301Z
LAST-MODIFIED:20230801T214340Z
UID:2162-1689703200-1689708600@runyourstory.com
SUMMARY:RunGood Fostering Together 2023
DESCRIPTION:At our next #RunGood bring some school supplies to donate to @ fosteringtogethergc\nThank You Fostering Together GC for providing a list of supplies needed to help the families of students.\n\n\nDon’t forget to mark your calendars for July 18th at 6:00pm @ dogoodsmercantileco\nCome early to shop.\n\nTogether let’s learn about an amazing non-profit that helps foster families.\nThen hit the pavement in your favorite way.
URL:https://runyourstory.com/event/rungood-fostering-together-2023/
LOCATION:Do Goods Mercantile\, 202 St. Michael Street\, Mobile\, AL\, 36602\, United States
CATEGORIES:2-Miler,8k
ATTACH;FMTTYPE=image/jpeg:https://runyourstory.com/wp-content/uploads/2023/07/RunGood-Fostering-Together.jpg
ORGANIZER;CN="Run Your Story":MAILTO:allison@runyourstory.com
END:VEVENT
BEGIN:VEVENT
DTSTART;TZID=America/Chicago:20220813T073000
DTEND;TZID=America/Chicago:20220813T090000
DTSTAMP:20260424T214015
CREATED:20230219T230926Z
LAST-MODIFIED:20230801T215255Z
UID:1155-1660375800-1660381200@runyourstory.com
SUMMARY:Satsuma 2-Miler (Chickasabogue) 2022
DESCRIPTION:Grand Prix and Corporate Cup Awards Celebration \nRegister by mail (entries should be postmarked by August 6)\, online at events.com until 4 AM on August 12\, or in person at McCoy Outdoor\, Run-N-Tri\, or Fleet Feet in Mobile until noon on August 11. Packet pick-up and race day registration will be available at the Satsuma Community Center from 6:15 – 7:15 AM.
URL:https://runyourstory.com/event/satsuma-2-miler-chickasabogue-2022/
LOCATION:Satsuma Community Center\, 368 Juniper Ave\, Satsuma\, AL\, 36572\, United States
CATEGORIES:2-Miler
ATTACH;FMTTYPE=image/png:https://runyourstory.com/wp-content/uploads/2023/02/CHICKASABOGUE-2-MILER-SATSUMA-logo.png
END:VEVENT
END:VCALENDAR