BEGIN:VCALENDAR
VERSION:2.0
PRODID:-//Run Your Story - ECPv6.15.20//NONSGML v1.0//EN
CALSCALE:GREGORIAN
METHOD:PUBLISH
X-WR-CALNAME:Run Your Story
X-ORIGINAL-URL:https://runyourstory.com
X-WR-CALDESC:Events for Run Your Story
REFRESH-INTERVAL;VALUE=DURATION:PT1H
X-Robots-Tag:noindex
X-PUBLISHED-TTL:PT1H
BEGIN:VTIMEZONE
TZID:America/Chicago
BEGIN:DAYLIGHT
TZOFFSETFROM:-0600
TZOFFSETTO:-0500
TZNAME:CDT
DTSTART:20220313T080000
END:DAYLIGHT
BEGIN:STANDARD
TZOFFSETFROM:-0500
TZOFFSETTO:-0600
TZNAME:CST
DTSTART:20221106T070000
END:STANDARD
BEGIN:DAYLIGHT
TZOFFSETFROM:-0600
TZOFFSETTO:-0500
TZNAME:CDT
DTSTART:20230312T080000
END:DAYLIGHT
BEGIN:STANDARD
TZOFFSETFROM:-0500
TZOFFSETTO:-0600
TZNAME:CST
DTSTART:20231105T070000
END:STANDARD
BEGIN:DAYLIGHT
TZOFFSETFROM:-0600
TZOFFSETTO:-0500
TZNAME:CDT
DTSTART:20240310T080000
END:DAYLIGHT
BEGIN:STANDARD
TZOFFSETFROM:-0500
TZOFFSETTO:-0600
TZNAME:CST
DTSTART:20241103T070000
END:STANDARD
BEGIN:DAYLIGHT
TZOFFSETFROM:-0600
TZOFFSETTO:-0500
TZNAME:CDT
DTSTART:20250309T080000
END:DAYLIGHT
BEGIN:STANDARD
TZOFFSETFROM:-0500
TZOFFSETTO:-0600
TZNAME:CST
DTSTART:20251102T070000
END:STANDARD
END:VTIMEZONE
BEGIN:VEVENT
DTSTART;TZID=America/Chicago:20240127T080000
DTEND;TZID=America/Chicago:20240127T110000
DTSTAMP:20260424T150254
CREATED:20231016T003014Z
LAST-MODIFIED:20231016T003014Z
UID:2491-1706342400-1706353200@runyourstory.com
SUMMARY:Baton Rouge General Mardi Gras Mambo 2024
DESCRIPTION:Mark your calendars to join runners from all over the south to celebrate Mardi Gras Baton Rouge style! Whether you are running the One Mile Fun Run\, 10k or 15k\, the whole family can celebrate Carnival Season with the Mardi Gras Mambo. This annual event runs in downtown Baton Rouge and starts and finishes at North Boulevard Town Square.
URL:https://runyourstory.com/event/baton-rouge-general-mardi-gras-mambo-2024/
LOCATION:North Boulevard Town Square\, 222 North Blvd.\, Baton Rouge\, LA\, 70801\, United States
CATEGORIES:10k,15k
ATTACH;FMTTYPE=image/jpeg:https://runyourstory.com/wp-content/uploads/2023/10/Baton-Rouge-General-Mardi-Gras-Mambo-2024-logo.jpg
ORGANIZER;CN="Fresh Junkie Racing":MAILTO:info@freshjunkie.com
END:VEVENT
BEGIN:VEVENT
DTSTART;TZID=America/Chicago:20230204T070000
DTEND;TZID=America/Chicago:20230204T103000
DTSTAMP:20260424T150254
CREATED:20221022T225910Z
LAST-MODIFIED:20230801T215059Z
UID:294-1675494000-1675506600@runyourstory.com
SUMMARY:Pensacola Double Bridge Run 15k 2023
DESCRIPTION:The Pensacola Double Bridge Run is BACK! One of the premier 15K races in the country\, the course carries runners over two bridges\, across Pensacola Bay and Santa Rosa Sound. It will run from downtown Pensacola with a tour that includes the historic district\, and picturesque Bayfront Parkway\, a run through Gulf Breeze\, and onto Pensacola Beach. The 5K invites both runners and walkers to travel from Gulf Breeze to beautiful Pensacola Beach on Santa Rosa Island and the Gulf Islands Seashore. \nThere is much to see and lots to do in Pensacola\, Gulf Breeze\, and Pensacola Beach. This event is an ideal winter getaway. Natural beauty\, outdoor enjoyment\, history\, art\, entertainment\, and shopping are there for you and your friends – take the opportunity for a long\, true destination weekend.
URL:https://runyourstory.com/event/pensacola-double-bridge-run-15k-2023/
LOCATION:Maritime Park\, 301 W Main St\, Pensacola\, FL\, 32501\, United States
CATEGORIES:15k,5k
ATTACH;FMTTYPE=image/png:https://runyourstory.com/wp-content/uploads/2023/01/Pensacola-Double-Bridge-Run.png
END:VEVENT
END:VCALENDAR