BEGIN:VCALENDAR
VERSION:2.0
PRODID:-//Run Your Story - ECPv6.15.20//NONSGML v1.0//EN
CALSCALE:GREGORIAN
METHOD:PUBLISH
X-ORIGINAL-URL:https://runyourstory.com
X-WR-CALDESC:Events for Run Your Story
REFRESH-INTERVAL;VALUE=DURATION:PT1H
X-Robots-Tag:noindex
X-PUBLISHED-TTL:PT1H
BEGIN:VTIMEZONE
TZID:America/Chicago
BEGIN:DAYLIGHT
TZOFFSETFROM:-0600
TZOFFSETTO:-0500
TZNAME:CDT
DTSTART:20220313T080000
END:DAYLIGHT
BEGIN:STANDARD
TZOFFSETFROM:-0500
TZOFFSETTO:-0600
TZNAME:CST
DTSTART:20221106T070000
END:STANDARD
BEGIN:DAYLIGHT
TZOFFSETFROM:-0600
TZOFFSETTO:-0500
TZNAME:CDT
DTSTART:20230312T080000
END:DAYLIGHT
BEGIN:STANDARD
TZOFFSETFROM:-0500
TZOFFSETTO:-0600
TZNAME:CST
DTSTART:20231105T070000
END:STANDARD
BEGIN:DAYLIGHT
TZOFFSETFROM:-0600
TZOFFSETTO:-0500
TZNAME:CDT
DTSTART:20240310T080000
END:DAYLIGHT
BEGIN:STANDARD
TZOFFSETFROM:-0500
TZOFFSETTO:-0600
TZNAME:CST
DTSTART:20241103T070000
END:STANDARD
END:VTIMEZONE
BEGIN:VEVENT
DTSTART;TZID=America/Chicago:20231203T080000
DTEND;TZID=America/Chicago:20231203T170000
DTSTAMP:20260425T233758
CREATED:20231016T001959Z
LAST-MODIFIED:20231016T001959Z
UID:2479-1701590400-1701622800@runyourstory.com
SUMMARY:Our Lady of the Lake Tiger 10K
DESCRIPTION:The Our Lady of the Lake Tiger 10K is a partnership between LSU Athletics and FRESHJUNKIE Racing that brings the tradition of LSU Football and Tiger Stadium into a fun\, festive road race event that includes a 5K and a Kids 1 Mile Race (ages 12 and under).  The goal of the event is to give the entire LSU community: fans\, students\, alumni\, faculty and staff\, no matter age or ability\, an opportunity to complete their journey in Tiger Stadium.  Participants get to make their mark on the hallowed ground where so many have left theirs.  A festive post-race party with live music\, cold beer and good food is being planned to celebrate everyone’s accomplishments.
URL:https://runyourstory.com/event/our-lady-of-the-lake-tiger-10k/
LOCATION:Tiger Stadium\, Tiger Stadium\, Baton Rouge\, LA\, 70803\, United States
CATEGORIES:10k,5k
ATTACH;FMTTYPE=image/png:https://runyourstory.com/wp-content/uploads/2023/10/Our-Lady-of-the-Lake-Tiger-10k-2023-logo.png
ORGANIZER;CN="Fresh Junkie Racing":MAILTO:info@freshjunkie.com
END:VEVENT
END:VCALENDAR