BEGIN:VCALENDAR
VERSION:2.0
PRODID:-//Run Your Story - ECPv6.15.20//NONSGML v1.0//EN
CALSCALE:GREGORIAN
METHOD:PUBLISH
X-ORIGINAL-URL:https://runyourstory.com
X-WR-CALDESC:Events for Run Your Story
REFRESH-INTERVAL;VALUE=DURATION:PT1H
X-Robots-Tag:noindex
X-PUBLISHED-TTL:PT1H
BEGIN:VTIMEZONE
TZID:America/Chicago
BEGIN:DAYLIGHT
TZOFFSETFROM:-0600
TZOFFSETTO:-0500
TZNAME:CDT
DTSTART:20220313T080000
END:DAYLIGHT
BEGIN:STANDARD
TZOFFSETFROM:-0500
TZOFFSETTO:-0600
TZNAME:CST
DTSTART:20221106T070000
END:STANDARD
BEGIN:DAYLIGHT
TZOFFSETFROM:-0600
TZOFFSETTO:-0500
TZNAME:CDT
DTSTART:20230312T080000
END:DAYLIGHT
BEGIN:STANDARD
TZOFFSETFROM:-0500
TZOFFSETTO:-0600
TZNAME:CST
DTSTART:20231105T070000
END:STANDARD
BEGIN:DAYLIGHT
TZOFFSETFROM:-0600
TZOFFSETTO:-0500
TZNAME:CDT
DTSTART:20240310T080000
END:DAYLIGHT
BEGIN:STANDARD
TZOFFSETFROM:-0500
TZOFFSETTO:-0600
TZNAME:CST
DTSTART:20241103T070000
END:STANDARD
END:VTIMEZONE
BEGIN:VEVENT
DTSTART;TZID=America/Chicago:20231125T080000
DTEND;TZID=America/Chicago:20231125T100000
DTSTAMP:20260425T233759
CREATED:20231015T234308Z
LAST-MODIFIED:20231015T234308Z
UID:2459-1700899200-1700906400@runyourstory.com
SUMMARY:Lion Trot 5K 2023
DESCRIPTION:Benefits:\nMobile Area Blind Association\nOrganized by: \nSaraland Lions Club (https://www.saralandlionsclub.com/)\nLocation:  \nAmelia Park\, 716 Mae St\, Saraland\, AL 36571\nStart times:  \n5K will start at 8:00 AM\nFun Run will start at 9:00 AM\nDistances:  \nCertified 5K course (AL22034JE) through Saraland neighborhoods starting and finishing near Amelia Park.  The fun run follows an out and back course.  The courses are fairly flat; some gently inclines.  Water provided along the course.\nRegistration: \nMail in registration\, postmarked by November 18 or pre-register in person by 12 PM\, November 22\, at McCoy Outdoor\, Run-N-Tri\, or Fleet Feet in Mobile.  Day of race registration will be from 6:30 – 7:45 AM at the pavilion in Amelia Park.\nRegister online at  until 7 AM November 24.\nAwards:\n5K:  Top three male and female overall\, top male and female masters\, grandmasters\, senior-grandmasters\, legends and walkers.  Top three in age groups of 9 and under\, 10-14\, 15-19\, 20-24\, 25-29\, 30-34\, 35-39\, 40-44\, 45-49\, 50-54\, 55-59\, 60-64\, 65-69\, 70-74\, 75-79\, 80 & over.\nRibbons for one-mile finishers.\nShirts: \nParticipants pre-registered by November 10 are guaranteed a t-shirt on race day.  Late registrants will receive t-shirts as long as the supply lasts.\nPost-Race:  \nFood\, beverages\, awards\, and other activities provided for all race participants.
URL:https://runyourstory.com/event/lion-trot-5k-2023/
LOCATION:Amelia Park\, 716 Mae Street\, Saraland\, AL\, 36571\, United States
CATEGORIES:5k
ATTACH;FMTTYPE=image/png:https://runyourstory.com/wp-content/uploads/2023/10/Lion-Trot-2023-logo.png
ORGANIZER;CN="Saraland Lions Club":MAILTO:mike@stillwaterchurch.com
END:VEVENT
BEGIN:VEVENT
DTSTART;TZID=America/Chicago:20231125T080000
DTEND;TZID=America/Chicago:20231125T110000
DTSTAMP:20260425T233759
CREATED:20221022T204427Z
LAST-MODIFIED:20231121T133844Z
UID:359-1700899200-1700910000@runyourstory.com
SUMMARY:Run to the Light 5k 2023
DESCRIPTION:Come to our annual run to help support the Alpha Center and celebrate life!\nEvery dollar you donate goes towards helping moms & babies in our community!\nYour support is much appreciated!
URL:https://runyourstory.com/event/run-to-the-light-5k-2023/
LOCATION:Legion Field at Simpkins Stadium\, N Portis Ave\, Jackson\, AL\, 36545\, United States
CATEGORIES:5k
ATTACH;FMTTYPE=image/jpeg:https://runyourstory.com/wp-content/uploads/2022/10/Run-to-the-Light-5k-Color-Run-2023-logo.jpg
ORGANIZER;CN="Alpha Women's Resource Center":MAILTO:alphawrc@gmail.com
END:VEVENT
BEGIN:VEVENT
DTSTART;TZID=America/Chicago:20231125T080000
DTEND;TZID=America/Chicago:20231125T113000
DTSTAMP:20260425T233759
CREATED:20230710T132926Z
LAST-MODIFIED:20230801T213943Z
UID:2189-1700899200-1700911800@runyourstory.com
SUMMARY:Coastal Half Marathon\, 5k & 1 Mile Run 2023
DESCRIPTION:Shed your turkey with us at the beach on the Saturday after Thanksgiving. Bring the whole family to enjoy the weekend along the Alabama Gulf Coast. From a 1-mile fun run to a 5K to a half-marathon\, there is a distance for everyone. Enjoy running (or walking…or wheeling) on the peaceful\, scenic paved Hugh S. Branyon Backcountry Trail while taking in stunning views of flora and fauna in Gulf State Park.
URL:https://runyourstory.com/event/coastal-half-marathon-5k-1-mile-run-2023/
LOCATION:Orange Beach Sportsplex\, 4385 William Silvers Pkwy\, Orange Beach\, AL\, 36561\, United States
CATEGORIES:5k,Half Marathon
ATTACH;FMTTYPE=image/png:https://runyourstory.com/wp-content/uploads/2023/07/Coastal-Half-Marathon-logo.png
END:VEVENT
END:VCALENDAR