BEGIN:VCALENDAR
VERSION:2.0
PRODID:-//Run Your Story - ECPv6.15.20//NONSGML v1.0//EN
CALSCALE:GREGORIAN
METHOD:PUBLISH
X-ORIGINAL-URL:https://runyourstory.com
X-WR-CALDESC:Events for Run Your Story
REFRESH-INTERVAL;VALUE=DURATION:PT1H
X-Robots-Tag:noindex
X-PUBLISHED-TTL:PT1H
BEGIN:VTIMEZONE
TZID:America/Chicago
BEGIN:DAYLIGHT
TZOFFSETFROM:-0600
TZOFFSETTO:-0500
TZNAME:CDT
DTSTART:20220313T080000
END:DAYLIGHT
BEGIN:STANDARD
TZOFFSETFROM:-0500
TZOFFSETTO:-0600
TZNAME:CST
DTSTART:20221106T070000
END:STANDARD
BEGIN:DAYLIGHT
TZOFFSETFROM:-0600
TZOFFSETTO:-0500
TZNAME:CDT
DTSTART:20230312T080000
END:DAYLIGHT
BEGIN:STANDARD
TZOFFSETFROM:-0500
TZOFFSETTO:-0600
TZNAME:CST
DTSTART:20231105T070000
END:STANDARD
BEGIN:DAYLIGHT
TZOFFSETFROM:-0600
TZOFFSETTO:-0500
TZNAME:CDT
DTSTART:20240310T080000
END:DAYLIGHT
BEGIN:STANDARD
TZOFFSETFROM:-0500
TZOFFSETTO:-0600
TZNAME:CST
DTSTART:20241103T070000
END:STANDARD
END:VTIMEZONE
BEGIN:VEVENT
DTSTART;TZID=America/Chicago:20231123T080000
DTEND;TZID=America/Chicago:20231123T100000
DTSTAMP:20260425T233801
CREATED:20231015T233059Z
LAST-MODIFIED:20231015T233059Z
UID:2455-1700726400-1700733600@runyourstory.com
SUMMARY:Turkey Trot for Hope 5k and Gobble Wobble Fun Run 2023
DESCRIPTION:Run the Turkey Trot for Hope certified 5k or 1 mile Gobble Wobble with us on Thanksgiving Day in Mobile\, Alabama! Your registration supports Rapahope\, a non-profit organization that offers free year-round programming\, for families battling childhood cancer. Our goal is to help children with cancer have life-changing camp experiences filled with as many amazing moments as possible. Our programs are possible through the generosity of sponsors\, volunteers\, and fundraisers like the Turkey Trot for Hope. \n\n\n\n\n\n\n\nRace Day Registration- Mardi Gras Park from 6:15-7:30AM\n\n\nPacket Pickup/Late Registration- Wednesday\, November 22 at the Port City Pacers (358 Morgan Ave\, Mobile\, AL 36606) 12:00 PM – 6:00 PM.\nDistance: Certified 5K course. Gobble Wobble is about a mile.\nAwards: Male and Female Overall\, Masters\, Grandmasters\, Senior Grandmasters\, Wheelchair and top 3 male and female in age groups: 9 and under\, 10-14\, 15-19\, 20-24\, 25-29\, 30-34\, 35-39\, 40-44\, 45-49\, 50-54\, 55-59\, 60-64\, 65-69\, 70-74\, and 75-99.\nSpecial Awards: Most participants\, Best Thanksgiving costume\, Fastest turkey\, Fastest wheel chair participant
URL:https://runyourstory.com/event/turkey-trot-for-hope-5k-and-gobble-wobble-fun-run-2023/
LOCATION:Mardi Gras Park\, 104 S Royal St\, Mobile\, AL\, 36602\, United States
CATEGORIES:5k
ATTACH;FMTTYPE=image/png:https://runyourstory.com/wp-content/uploads/2023/10/Turkey-Trot-for-Hope-2023-logo.png
ORGANIZER;CN="RapAHope":MAILTO:info@rapahope.org
END:VEVENT
BEGIN:VEVENT
DTSTART;TZID=America/Chicago:20231123T080000
DTEND;TZID=America/Chicago:20231123T100000
DTSTAMP:20260425T233801
CREATED:20231016T000759Z
LAST-MODIFIED:20231016T000759Z
UID:2471-1700726400-1700733600@runyourstory.com
SUMMARY:Baton Rouge Turkey Trot
DESCRIPTION:Celebrating its 37th year\, the Turkey Trot returns to Downtown Baton Rouge on the morning of Thanksgiving 2023. This race is a local Thanksgiving tradition – one that serves the community by keeping them active and fit through racing and by partnering with the March of Dimes as a fund-raiser to help their organization financially and by spreading the word about the work they do. \nCome run\, walk or jog the 5K or the 1 mile fun run with your family and friends and #earnyourturkey.
URL:https://runyourstory.com/event/baton-rouge-turkey-trot/
LOCATION:368 Convention St\, 368 Convention St\, Baton Rouge\, LA\, 70801\, United States
CATEGORIES:5k
ATTACH;FMTTYPE=image/png:https://runyourstory.com/wp-content/uploads/2023/10/Baton-Rouge-Turkey-Trot-2023-logo.png
ORGANIZER;CN="Fresh Junkie Racing":MAILTO:info@freshjunkie.com
END:VEVENT
BEGIN:VEVENT
DTSTART;TZID=America/Chicago:20231123T080000
DTEND;TZID=America/Chicago:20231123T100000
DTSTAMP:20260425T233801
CREATED:20231016T001316Z
LAST-MODIFIED:20231016T001316Z
UID:2475-1700726400-1700733600@runyourstory.com
SUMMARY:Tammany Turkey Trot
DESCRIPTION:The Tammany Turkey Trot takes to the streets of Covington again on Thanksgiving morning.  Ready to experience the history of downtown Covington\, or show it off to your visiting family and friends?  Here’s your chance to #EarnYourTurkey! \nAthletes will start their Thanksgiving run just north of downtown Covington. From there\, both 5K and 5-mile runners will make their way through downtown and into the splendor of moss-covered trees that line the streets. Close to St. Paul’s High School runners will head slightly west before turning north.  From there\, it’s a return trip for the finish line at the St. Tammany Courthouse! \n5 Mile runners will finish their Turkey “tour” with a scenic jaunt further south past more beautiful homes before rejoining with the 5K course and heading north back to downtown. \nNew in 2023 is a 1 Mile Fun Run option that will start at 7:30am prior to the 5K and 5 Mile Run.
URL:https://runyourstory.com/event/tammany-turkey-trot/
LOCATION:St. Tammany Justice Center\, 701 N Columbia St\, Covington\, LA\, 70433\, United States
CATEGORIES:5k
ATTACH;FMTTYPE=image/jpeg:https://runyourstory.com/wp-content/uploads/2023/10/Tammany-Turkey-Trot-2023-logo.jpg
ORGANIZER;CN="Fresh Junkie Racing":MAILTO:info@freshjunkie.com
END:VEVENT
END:VCALENDAR