BEGIN:VCALENDAR
VERSION:2.0
PRODID:-//Run Your Story - ECPv6.15.20//NONSGML v1.0//EN
CALSCALE:GREGORIAN
METHOD:PUBLISH
X-ORIGINAL-URL:https://runyourstory.com
X-WR-CALDESC:Events for Run Your Story
REFRESH-INTERVAL;VALUE=DURATION:PT1H
X-Robots-Tag:noindex
X-PUBLISHED-TTL:PT1H
BEGIN:VTIMEZONE
TZID:America/Chicago
BEGIN:DAYLIGHT
TZOFFSETFROM:-0600
TZOFFSETTO:-0500
TZNAME:CDT
DTSTART:20220313T080000
END:DAYLIGHT
BEGIN:STANDARD
TZOFFSETFROM:-0500
TZOFFSETTO:-0600
TZNAME:CST
DTSTART:20221106T070000
END:STANDARD
BEGIN:DAYLIGHT
TZOFFSETFROM:-0600
TZOFFSETTO:-0500
TZNAME:CDT
DTSTART:20230312T080000
END:DAYLIGHT
BEGIN:STANDARD
TZOFFSETFROM:-0500
TZOFFSETTO:-0600
TZNAME:CST
DTSTART:20231105T070000
END:STANDARD
BEGIN:DAYLIGHT
TZOFFSETFROM:-0600
TZOFFSETTO:-0500
TZNAME:CDT
DTSTART:20240310T080000
END:DAYLIGHT
BEGIN:STANDARD
TZOFFSETFROM:-0500
TZOFFSETTO:-0600
TZNAME:CST
DTSTART:20241103T070000
END:STANDARD
END:VTIMEZONE
BEGIN:VEVENT
DTSTART;TZID=America/Chicago:20231118T080000
DTEND;TZID=America/Chicago:20231118T100000
DTSTAMP:20260425T233758
CREATED:20231015T232006Z
LAST-MODIFIED:20231015T232006Z
UID:2444-1700294400-1700301600@runyourstory.com
SUMMARY:Jubilee Race for Life 5k 2023
DESCRIPTION:Benefiting Bayside Medical Missions to provide corrective surgeries for persons of \n\n                                   limited resources by all-volunteer medical teams.\n\n\n\n \nFor more information about Bayside Medical Missions www.BaysideMedicalMissions.org \n\n\nLocation: \nStart\, finish\, and race activities at Daphne City Hall\, 1705 Main Street\, Daphne\, AL 36526 . \n  \nDistances: \nCertified 5K course (AL14019JD) .  Fun Run approximately one mile – starts after 5K \nis completed – approximately 9 AM. \n  \nRegistration: \nRegister by mail (entries should be postmarked by November 11\, in person at \nMcCoy Outdoor or Run-N-Tri in Mobile until noon on Thursday\, November 16\, or online \nuntil 7 AM\, Friday\, November 17. \nRace day packet pick-up and registration at Daphne City Hall from 6:30 AM – 7:45 AM . \n  \nAwards: \n5K:  Top male and female Overall and top overall Race Walker.  Top three male and \nfemale in age groups: 9 and under\, 10-14\, 15-19\, 20-24\, 25-29\, 30-34\, 35-39\, 40-44\, \n45-49\, 50-54\, 55-59\, 60-64\, 65-69\, 70-74\, and 75-99. \nFun Run:  Top three overall finishers (must be registered for the fun run) \n  \nShirts: \nParticipants must be registered by November 4 to guarantee a TECH TEE \nshirt in requested size on race day.  Tee shirts available for late registration while \nsupplies last. \n  \nPost-Race Party: \nAwards\, food (provided by Chick-fil-A)\, beverages\, door prizes and raffles after the race.
URL:https://runyourstory.com/event/jubilee-race-for-life-5k-2023/
LOCATION:Daphne City Hall\, 1705 Main Street\, Daphne\, AL\, 36526\, United States
CATEGORIES:5k
ATTACH;FMTTYPE=image/gif:https://runyourstory.com/wp-content/uploads/2023/10/Jubilee-Race-for-Life-5k-2023-logo.gif
ORGANIZER;CN="Bayside Medical Missions":MAILTO:info@baysidemedicalmissions.org
END:VEVENT
END:VCALENDAR