BEGIN:VCALENDAR
VERSION:2.0
PRODID:-//Run Your Story - ECPv6.15.20//NONSGML v1.0//EN
CALSCALE:GREGORIAN
METHOD:PUBLISH
X-ORIGINAL-URL:https://runyourstory.com
X-WR-CALDESC:Events for Run Your Story
REFRESH-INTERVAL;VALUE=DURATION:PT1H
X-Robots-Tag:noindex
X-PUBLISHED-TTL:PT1H
BEGIN:VTIMEZONE
TZID:America/Chicago
BEGIN:DAYLIGHT
TZOFFSETFROM:-0600
TZOFFSETTO:-0500
TZNAME:CDT
DTSTART:20220313T080000
END:DAYLIGHT
BEGIN:STANDARD
TZOFFSETFROM:-0500
TZOFFSETTO:-0600
TZNAME:CST
DTSTART:20221106T070000
END:STANDARD
BEGIN:DAYLIGHT
TZOFFSETFROM:-0600
TZOFFSETTO:-0500
TZNAME:CDT
DTSTART:20230312T080000
END:DAYLIGHT
BEGIN:STANDARD
TZOFFSETFROM:-0500
TZOFFSETTO:-0600
TZNAME:CST
DTSTART:20231105T070000
END:STANDARD
BEGIN:DAYLIGHT
TZOFFSETFROM:-0600
TZOFFSETTO:-0500
TZNAME:CDT
DTSTART:20240310T080000
END:DAYLIGHT
BEGIN:STANDARD
TZOFFSETFROM:-0500
TZOFFSETTO:-0600
TZNAME:CST
DTSTART:20241103T070000
END:STANDARD
END:VTIMEZONE
BEGIN:VEVENT
DTSTART;TZID=America/Chicago:20231111T080000
DTEND;TZID=America/Chicago:20231111T103000
DTSTAMP:20260425T231936
CREATED:20230709T212221Z
LAST-MODIFIED:20230801T214003Z
UID:2120-1699689600-1699698600@runyourstory.com
SUMMARY:Turkey 10-miler/10k/5k 2023
DESCRIPTION:Benefiting Creola Police & Rescue\, the River Delta Marina\, and local foodbanks. \nPlease bring canned or packaged non-perishable food to the race or consider a monetary donation to the food banks. \n\n\n\n\nFriday\n\nNoon – 5:30 PM – Early packet pick-up and late registration at the Port City Pacers Office located at 358 Morgan Avenue\, Mobile\, Al. map\n\nSaturday\n\n6:30-7:50 AM – Race day registration and packet pick-up\n8:00 AM – Race Start\n10:00 AM (approx) – Awards\n\nPre-register by mail (entries should be postmarked a week before race day) or in person at McCoy Outdoor\, Run-N-Tri\, or Fleet Feet in Mobile until noon the Thursday before the race.\nOn-line registration ends at 4AM the Friday before the race. \n\n\n\n\n\n\n\n10 Miler  Awards \n\nTop Male and Female Overall in the following\n\nMasters (40+)\nGrandmasters (50+)\nSenior Grandmasters (60+)\nWheelchair\nWalker\n\n\nTop 3 Male and Female in 5-year age groups\n\n10K & 5K Awards \n\nTop Male and Female Overall in the following\n\nMasters (40+)\nGrandmasters (50+)\nSenior Grandmasters (60+)\nWheelchair\nWalker\n5-year age groups
URL:https://runyourstory.com/event/turkey-10-miler-10k-5k-2023/
LOCATION:River Delta Marina & Campground\, 2350 Dead Lake Rd\, Creola\, AL\, 36525\, United States
CATEGORIES:10-Miler,10k,5k
ATTACH;FMTTYPE=image/png:https://runyourstory.com/wp-content/uploads/2023/01/Turkey-10-logo.png
END:VEVENT
END:VCALENDAR