BEGIN:VCALENDAR
VERSION:2.0
PRODID:-//Run Your Story - ECPv6.15.20//NONSGML v1.0//EN
CALSCALE:GREGORIAN
METHOD:PUBLISH
X-ORIGINAL-URL:https://runyourstory.com
X-WR-CALDESC:Events for Run Your Story
REFRESH-INTERVAL;VALUE=DURATION:PT1H
X-Robots-Tag:noindex
X-PUBLISHED-TTL:PT1H
BEGIN:VTIMEZONE
TZID:America/Chicago
BEGIN:DAYLIGHT
TZOFFSETFROM:-0600
TZOFFSETTO:-0500
TZNAME:CDT
DTSTART:20220313T080000
END:DAYLIGHT
BEGIN:STANDARD
TZOFFSETFROM:-0500
TZOFFSETTO:-0600
TZNAME:CST
DTSTART:20221106T070000
END:STANDARD
BEGIN:DAYLIGHT
TZOFFSETFROM:-0600
TZOFFSETTO:-0500
TZNAME:CDT
DTSTART:20230312T080000
END:DAYLIGHT
BEGIN:STANDARD
TZOFFSETFROM:-0500
TZOFFSETTO:-0600
TZNAME:CST
DTSTART:20231105T070000
END:STANDARD
BEGIN:DAYLIGHT
TZOFFSETFROM:-0600
TZOFFSETTO:-0500
TZNAME:CDT
DTSTART:20240310T080000
END:DAYLIGHT
BEGIN:STANDARD
TZOFFSETFROM:-0500
TZOFFSETTO:-0600
TZNAME:CST
DTSTART:20241103T070000
END:STANDARD
END:VTIMEZONE
BEGIN:VEVENT
DTSTART;TZID=America/Chicago:20231028T070000
DTEND;TZID=America/Chicago:20231028T170000
DTSTAMP:20260425T215743
CREATED:20230710T134748Z
LAST-MODIFIED:20230801T214030Z
UID:2194-1698476400-1698512400@runyourstory.com
SUMMARY:Nashville Marathon\, Half Marathon\, and 5k 2023
DESCRIPTION:Start & Finish Line: Downtown Nashville – Exact Location TBD\nPacket Pickup Opens: 6 AM\n5K Start Time: TBD\n5k Start Line: Exact Location TBD\n½ Marathon & Marathon Start Time: TBD\nHalf and Full Start Line: Exact Location TBD\nFinish Line: Exact Location TBD)\nFinish Line Festival: 7 AM – 2 PM \nPost-Race Entertainment:\n9:15 am – 10:30 am: Artist TBD\n10:30 – 10:45: County Challenge Winner Presentation\n10:45 am – 12:15 pm: Artist TBD\n12:15 – 12:30: Stage Break\n12:40 – 1:30 pm: DJ
URL:https://runyourstory.com/event/nashville-marathon-half-marathon-and-5k-2023/
LOCATION:AL
CATEGORIES:5k,Half Marathon,Marathon
ATTACH;FMTTYPE=image/webp:https://runyourstory.com/wp-content/uploads/2023/07/Nashville_Marathon_2019.webp
END:VEVENT
BEGIN:VEVENT
DTSTART;TZID=America/Chicago:20231028T080000
DTEND;TZID=America/Chicago:20231028T100000
DTSTAMP:20260425T215743
CREATED:20231015T230418Z
LAST-MODIFIED:20231015T230418Z
UID:2434-1698480000-1698487200@runyourstory.com
SUMMARY:Sippin` and Skippin` 5K 2023
DESCRIPTION:Parrot Heads in Paradise presents Skippin & Sippin 2023. Join us as we skip and sip to support LOCAL breast cancer patients during Meeting of the Minds 2023. The 5k & Fun Run will take place at LuLu’s at Homeport Marina in Gulf Shores\, Alabama. LuLu’s will be hosting a post-race party! Bring your family and friends as we support Bras Across the CAUSEway\, and their mission to make an impact directly to patients of The Breast Center at Providence Hospital.  \nMailed in registration fees:\nPostmarked by Oct. 20- $25 (13+)\, $20 (12 & Under)\nPostmarked after Oct. 20- $30 (13+)\, $25 (12 & Under)\nFor no t-shirt\, subtract $2.00 from registration total.\n**$2.50 processing fee plus sales tax per transaction**\n \nTo guarantee a shirt on race day\, you must submit your application by October 14. \nTop male and female Overall and top three male and female in age groups: 9 and under\, 10–14\, 15-19\, 20-24\, 25-29\, 30-34\, 35-39\, 40-44\, 45-49\, 50-54\, 55-59\, 60-64\, 65-69\, 70-74\, 75-80\, and 80+. Fun Run finishers receive ribbons. \nFor more information on how to become a bralunteer\, visit www.brasacrossthecauseway.org/bralunteer
URL:https://runyourstory.com/event/sippin-and-skippin-5k-2023/
LOCATION:LuLu’s\, 200 E 25th Avenue\, Gulf Shores\, AL\, 36542\, United States
CATEGORIES:5k
ATTACH;FMTTYPE=image/png:https://runyourstory.com/wp-content/uploads/2023/10/Sippin-and-Skippin-5K-2023-logo.png
ORGANIZER;CN="Bras Across the CAUSEway":MAILTO:hello@brasacrossthecauseway.org
END:VEVENT
BEGIN:VEVENT
DTSTART;TZID=America/Chicago:20231028T080000
DTEND;TZID=America/Chicago:20231028T103000
DTSTAMP:20260425T215743
CREATED:20231015T225726Z
LAST-MODIFIED:20231015T225726Z
UID:2430-1698480000-1698489000@runyourstory.com
SUMMARY:Prodisee Pantry Turkey Trot 2023
DESCRIPTION:EVERY RUNNER IS A TURKEY for Baldwin County Families in need! Proceeds from this event will fund Prodisee Pantry’s holiday meals for local families. \nProdisee Pantry’s 14th Annual 5K\, Fun Run & Family Fun Festival is October 28\, 2023 at Daphne City Hall\nAll proceeds fund Prodisee Pantry’s coordinated effort with various nonprofits and churches to provide a “Norman Rockwell” type holiday feast for Baldwin County families who are hungry.  Please contact us for Sponsorship Opportunities! \n5K Race @ 8am (certified course) \n1 Mile Fun Run @ 9am \nFamily Fun Festival @ 7:30am – 10:30am \nPRE-REGISTRATION 5K $25 / Fun Run $10 / Shirt Only (not running) $10 \nPrintable Runner Registration 2023 \nParticipants pre-registered by 10/8/23 will be guaranteed a shirt. Later registrants will receive shirts as supplies last. \nMail – Prodisee Pantry\, 9315 Spanish Fort Blvd.\, Spanish Fort\, AL 36527 (by 10/13) \nIn Person – At Prodisee Pantry (by noon 10/26) \nOnline – by 11pm 10/26/23 Online Registration \nPacket Pick Up 10/27/23 noon to 6pm at Prodisee Pantry. \nLate Registration Friday\, 10/27/23 noon to 6pm at Prodisee Pantry \nLATE REGISTRATION 5K $30 / Fun Run $15 / Shirt Only (not running) $10 \nIn Person – At Prodisee Pantry 10/27 (noon – 6pm) \nRace Day – In front of Daphne City Hall (7am – 7:45am) \nParticipants pre-registered by 10/8/23 will be guaranteed a shirt. Later registrants will receive shirts as supplies last. \nAWARDS \n5K Race: Top 3 Male & Female Overall\, Masters\, Grandmasters\,& Senior Grandmasters. Top Male & Female in age groups: 9 & under\, 10-14\, 15-19\, 20-24\, 25-29\, 30-34\, 35-39\, 40-44\, 45-49\,50-54\, 55-59\, 60-64\, 65-69\, 70-74\, & 75-99. \nFun Run: Top 3 Overall Male & Female 14 & under plus categories for our youngest fun runners.Team Awards: Most Funds Raised\, Largest Team\, Team Spirit\, Fastest Team\, Most Canned Goods Collected & Cutest Booth. \nCostume Awards: Various children\, adult & team awards. \n#everyrunnerisaturkey
URL:https://runyourstory.com/event/prodisee-pantry-turkey-trot-2023/
LOCATION:Daphne City Hall\, 1705 Main Street\, Daphne\, AL\, 36526\, United States
CATEGORIES:5k
ATTACH;FMTTYPE=image/jpeg:https://runyourstory.com/wp-content/uploads/2023/10/turkey-trot-prodisee-pantry-2023.jpg
END:VEVENT
BEGIN:VEVENT
DTSTART;TZID=America/Chicago:20231028T080000
DTEND;TZID=America/Chicago:20231028T103000
DTSTAMP:20260425T215743
CREATED:20231015T231205Z
LAST-MODIFIED:20231015T231400Z
UID:2438-1698480000-1698489000@runyourstory.com
SUMMARY:Elberta Weiner Dash 5K 2023
DESCRIPTION:Benefits- Elberta Fire Department \nLocation- Packet pickup and race day registration will take place at Elberta High School (13355 Main St. located next to the football field) The 5K race will start on Kichler Cir South. The Fun Run will start immediately after the finish of the 5K and will start and finish at the 5K finish line. \nDistance- Runners will follow a certified course through the countryside of Elberta. The Fun Run is 1 mile and will start and finish at the 5K finish line. \nRegistration- Register online at events.com until 7:45 the morning of the race. October 28\, 2023. \nEarly Packet Pickup- 5-7 pm on October 27\, 2023 at the Gazebo in Elberta Park \nEntry Fee- Adult $25 – Child (12 and under) $20 \nFees include race day shirts only if paid by October 14\, 2023 (we will have a limited number available the day of for race day registers) \nAwards- 5K- Top Male and Female runner\, Top Male and Female Walker (must walk the entire race)\, top 3 male and female in age categories – 9 and under\, 10-14\, 15-19\, 20-24\, 25-29\, 30-34\, 35-39\, 40-44\, 45-49\, 50-54\, 55-59\, 60-64\, 65-69\, 70-74\, 75+. FUN RUN – Top 3 overall boys and girls (must be registered for FUN RUN) \nPost Race Party- Elberta German Sausage Festival\, race packets will include vouchers for 2 drinks and 1 sausage. \nAwards- The Centennial Bank Stage at 10 am
URL:https://runyourstory.com/event/elberta-weiner-dash-5k-2023/
LOCATION:Elberta High School\, 13355 Main St.\, Elberta\, 36530\, United States
CATEGORIES:5k
ATTACH;FMTTYPE=image/png:https://runyourstory.com/wp-content/uploads/2023/10/Elberta-Weiner-Dask-2023-logo.png
ORGANIZER;CN="Elberta Fire Department":MAILTO:evfd@elbertafire.com
END:VEVENT
END:VCALENDAR