BEGIN:VCALENDAR
VERSION:2.0
PRODID:-//Run Your Story - ECPv6.15.20//NONSGML v1.0//EN
CALSCALE:GREGORIAN
METHOD:PUBLISH
X-ORIGINAL-URL:https://runyourstory.com
X-WR-CALDESC:Events for Run Your Story
REFRESH-INTERVAL;VALUE=DURATION:PT1H
X-Robots-Tag:noindex
X-PUBLISHED-TTL:PT1H
BEGIN:VTIMEZONE
TZID:America/Chicago
BEGIN:DAYLIGHT
TZOFFSETFROM:-0600
TZOFFSETTO:-0500
TZNAME:CDT
DTSTART:20220313T080000
END:DAYLIGHT
BEGIN:STANDARD
TZOFFSETFROM:-0500
TZOFFSETTO:-0600
TZNAME:CST
DTSTART:20221106T070000
END:STANDARD
BEGIN:DAYLIGHT
TZOFFSETFROM:-0600
TZOFFSETTO:-0500
TZNAME:CDT
DTSTART:20230312T080000
END:DAYLIGHT
BEGIN:STANDARD
TZOFFSETFROM:-0500
TZOFFSETTO:-0600
TZNAME:CST
DTSTART:20231105T070000
END:STANDARD
BEGIN:DAYLIGHT
TZOFFSETFROM:-0600
TZOFFSETTO:-0500
TZNAME:CDT
DTSTART:20240310T080000
END:DAYLIGHT
BEGIN:STANDARD
TZOFFSETFROM:-0500
TZOFFSETTO:-0600
TZNAME:CST
DTSTART:20241103T070000
END:STANDARD
END:VTIMEZONE
BEGIN:VEVENT
DTSTART;TZID=America/Chicago:20230506T180000
DTEND;TZID=America/Chicago:20230506T220000
DTSTAMP:20260425T144530
CREATED:20230412T122013Z
LAST-MODIFIED:20230801T214418Z
UID:1764-1683396000-1683410400@runyourstory.com
SUMMARY:Krewe of Kindness Ball 2023
DESCRIPTION:The 4th Annual Krewe of Kindness Ball Presented by the Mapp Family Foundation. \n“Into the Unknown” \nAll ages are welcome! \nVenue opens at 6:00 PM \nTableaux starts at 6:30 PM \nSecond Line with Blow House Band at 9:00 PM \nAdults $40 \nChildren (12 and under) $25 \nFor tickets please visit: KOK2023Ball.eventbrite.com \nFor more information\, visit our Facebook page: https://www.facebook.com/kreweofkindness
URL:https://runyourstory.com/event/krewe-of-kindness-ball-2023/
LOCATION:Battlehouse Hotel\, 26 N Royal St\, Mobile\, AL\, 36602\, United States
ATTACH;FMTTYPE=image/png:https://runyourstory.com/wp-content/uploads/2023/04/Krew-of-Kindness-ad.png
END:VEVENT
END:VCALENDAR