BEGIN:VCALENDAR
VERSION:2.0
PRODID:-//Run Your Story - ECPv6.15.20//NONSGML v1.0//EN
CALSCALE:GREGORIAN
METHOD:PUBLISH
X-ORIGINAL-URL:https://runyourstory.com
X-WR-CALDESC:Events for Run Your Story
REFRESH-INTERVAL;VALUE=DURATION:PT1H
X-Robots-Tag:noindex
X-PUBLISHED-TTL:PT1H
BEGIN:VTIMEZONE
TZID:America/Chicago
BEGIN:DAYLIGHT
TZOFFSETFROM:-0600
TZOFFSETTO:-0500
TZNAME:CDT
DTSTART:20220313T080000
END:DAYLIGHT
BEGIN:STANDARD
TZOFFSETFROM:-0500
TZOFFSETTO:-0600
TZNAME:CST
DTSTART:20221106T070000
END:STANDARD
BEGIN:DAYLIGHT
TZOFFSETFROM:-0600
TZOFFSETTO:-0500
TZNAME:CDT
DTSTART:20230312T080000
END:DAYLIGHT
BEGIN:STANDARD
TZOFFSETFROM:-0500
TZOFFSETTO:-0600
TZNAME:CST
DTSTART:20231105T070000
END:STANDARD
BEGIN:DAYLIGHT
TZOFFSETFROM:-0600
TZOFFSETTO:-0500
TZNAME:CDT
DTSTART:20240310T080000
END:DAYLIGHT
BEGIN:STANDARD
TZOFFSETFROM:-0500
TZOFFSETTO:-0600
TZNAME:CST
DTSTART:20241103T070000
END:STANDARD
END:VTIMEZONE
BEGIN:VEVENT
DTSTART;TZID=America/Chicago:20230421T080000
DTEND;TZID=America/Chicago:20230422T170000
DTSTAMP:20260425T132245
CREATED:20221022T201956Z
LAST-MODIFIED:20230801T214508Z
UID:341-1682064000-1682182800@runyourstory.com
SUMMARY:Ragnar Team Trail Run 2023
DESCRIPTION:Lace-up your running shoes for a gold medal weekend at Ragnar Trail Atlanta April 21-22\, 2023. Only 30 miles from Atlanta and a hop\, skip\, and jump from Hartsfield–Jackson Atlanta International Airport\, but with a feel a world away from city life\, this scenic course is set at the Georgia International Horse Park\, a former Olympic venue. \nEach member of your team will complete three trail loops — each a beautiful run on its own. These trails feature smooth single tracks\, challenging climbs\, and spectacular descents surrounded by Georgia pine forests and bridge-covered streams. Meander along the Yellow River\, tackle the twists of an Olympic mountain bike race course as well as tour an Olympic Equestrian Cross Country course\, swoop through curves\, and bound over granite slabs. \nCombine the adventure of racing through the star-filled night with the camaraderie and excitement of Ragnar Village. It’s a weekend romp through the woods that none of you will forget. \nTeams are invited to join us early to start the Ragnar Trail adventure on Thursday for a bonus night of fun with your friends!
URL:https://runyourstory.com/event/ragnar-team-trail-run-2023/
LOCATION:Georgia International Horse Park\, 1996 Centennial Olympic Pkwy NE\, Conyers\, GA\, 30013\, United States
CATEGORIES:Trail
ATTACH;FMTTYPE=image/jpeg:https://runyourstory.com/wp-content/uploads/2023/01/ragnar-logo.jpg
ORGANIZER;CN="Ragnar":MAILTO:customerservice@runragnar.com
END:VEVENT
BEGIN:VEVENT
DTSTART;TZID=America/Chicago:20230422T080000
DTEND;TZID=America/Chicago:20230422T093000
DTSTAMP:20260425T132245
CREATED:20230122T221628Z
LAST-MODIFIED:20230801T214450Z
UID:693-1682150400-1682155800@runyourstory.com
SUMMARY:Old Mobile 8k 2023
DESCRIPTION:Friday 4/21/23 \n\nNoon – 5:30 PM – Early packet pick-up and late registration at the Port City Pacers Office located at 358 Morgan Avenue\, Mobile\, Al. map\n\nSaturday 4/22/23 \n\n6:30 –  7:45 – Race day registration and packet pick-up at Colonial Fort Condé\n8:00 AM – Race Start\n9:15 AM – Fun Run Start\n9:45 AM (approximate) – Awards\n\nAwards \n\nTop 3 Male and Female Overall\nTop Masters Male and Female (40+)\nTop Grandmasters Male and Female (50+)\nTop Senior Grandmasters Male And Female (60+)\nTop Walker (no running at all) Male and Female\nTop 3 Male and Female in 5-year age groups\n\nCourse Map \n\nView the course map here\n\nShirts \n\nTo guarantee a shirt on race day\, applications and fees must be submitted 3 weeks before race day (4/1/23).
URL:https://runyourstory.com/event/old-mobile-8k-2023/
LOCATION:Colonial Fort Conde\, 150 S Royal St\, Mobile\, AL\, 36602\, United States
CATEGORIES:8k
ATTACH;FMTTYPE=image/jpeg:https://runyourstory.com/wp-content/uploads/2023/01/Old-Mobile-8k-Logo.jpg
END:VEVENT
BEGIN:VEVENT
DTSTART;TZID=America/Chicago:20230422T080000
DTEND;TZID=America/Chicago:20230422T100000
DTSTAMP:20260425T132245
CREATED:20230404T194858Z
LAST-MODIFIED:20230801T214426Z
UID:1758-1682150400-1682157600@runyourstory.com
SUMMARY:NAMI Walks Mobile 2023
DESCRIPTION:Walk with NAMI in 2023\nAcross America\, the critical nature of our mission\,  “Mental Health for All”  is being felt as never before. NAMIWalks Mobile 2023 represents a powerful chance to leave a significant mark on the local mental health landscape. \nNow is the time to show your commitment to this movement.  With your support and enthusiasm\, we can make an unprecedented impact on mental health in our community. \nWhether you’re a previous participant or a new voice waiting to be heard\, we’re pretty sure you’ll find our event inspired and inspiring. \nThis year\, changing the world begins at “The Coop” on April 22 at 8 am. \nSee you there! \nDogs on leashes are welcome at NAMIWalks Mobile.  \nALL TOGETHER – FOR MENTAL HEALTH FOR ALL\n#Together4MH
URL:https://runyourstory.com/event/nami-walks-mobile-2023/
LOCATION:Cooper Riverside Park\, 101 S Water Street\, Mobile\, AL\, 36602\, United States
ATTACH;FMTTYPE=image/jpeg:https://runyourstory.com/wp-content/uploads/2023/04/namiwalks-2020_Theme_Logo.jpg
ORGANIZER;CN="NAMI Mobile":MAILTO:wmnamiwalks@gmail.com
END:VEVENT
END:VCALENDAR