BEGIN:VCALENDAR
VERSION:2.0
PRODID:-//Run Your Story - ECPv6.15.20//NONSGML v1.0//EN
CALSCALE:GREGORIAN
METHOD:PUBLISH
X-WR-CALNAME:Run Your Story
X-ORIGINAL-URL:https://runyourstory.com
X-WR-CALDESC:Events for Run Your Story
REFRESH-INTERVAL;VALUE=DURATION:PT1H
X-Robots-Tag:noindex
X-PUBLISHED-TTL:PT1H
BEGIN:VTIMEZONE
TZID:America/Chicago
BEGIN:DAYLIGHT
TZOFFSETFROM:-0600
TZOFFSETTO:-0500
TZNAME:CDT
DTSTART:20210314T080000
END:DAYLIGHT
BEGIN:STANDARD
TZOFFSETFROM:-0500
TZOFFSETTO:-0600
TZNAME:CST
DTSTART:20211107T070000
END:STANDARD
BEGIN:DAYLIGHT
TZOFFSETFROM:-0600
TZOFFSETTO:-0500
TZNAME:CDT
DTSTART:20220313T080000
END:DAYLIGHT
BEGIN:STANDARD
TZOFFSETFROM:-0500
TZOFFSETTO:-0600
TZNAME:CST
DTSTART:20221106T070000
END:STANDARD
BEGIN:DAYLIGHT
TZOFFSETFROM:-0600
TZOFFSETTO:-0500
TZNAME:CDT
DTSTART:20230312T080000
END:DAYLIGHT
BEGIN:STANDARD
TZOFFSETFROM:-0500
TZOFFSETTO:-0600
TZNAME:CST
DTSTART:20231105T070000
END:STANDARD
END:VTIMEZONE
BEGIN:VEVENT
DTSTART;TZID=America/Chicago:20221113T080000
DTEND;TZID=America/Chicago:20221113T103000
DTSTAMP:20260425T082824
CREATED:20221022T231900Z
LAST-MODIFIED:20230801T215227Z
UID:322-1668326400-1668335400@runyourstory.com
SUMMARY:Battleship 12k 2022
DESCRIPTION:The Publix Battleship 12K\, a patriotic run to honor those who have served\, was started in 2015 as a way to pay tribute to those heroes who defend our freedom. Many Veterans have not received the hero’s welcome that those returning from WWII received\, and it was with this in mind that the event was created. Whether someone deployed to combat or only served a brief time\, every man and woman who has put on the uniform to keep our Country free deserves to be thanked. \nFrom the patriotic opening ceremonies and National Anthem to the spirit on the course\, and finishing at Battleship Memorial Park next to the USS Alabama\, runners and walkers will experience a sense of patriotism rarely felt at an event. Upon entering the park for the homestretch runners are greeted by children handing them small American flags to finish their 12K (7.65 miles) journey. Civilians\, Active Military\, and Veterans can be heard cheering on finishers while “Thank you for your service” echoes around the finish line. \n\nStart Time: 8:00am CST\nEnd Time: 10:30am CST\nPrice: $55 $50.00 Race Fee + $3.90 SignUp Fee\nRegistration: Price increases to $55.00 after November 10\, 2022 at 11:59pm CST
URL:https://runyourstory.com/event/battleship-12k-2022/
LOCATION:Bass Pro Shop\, 26000 Bass Pro Dr.\, Spanish Fort\, AL\, 36527\, United States
CATEGORIES:12k
ATTACH;FMTTYPE=image/png:https://runyourstory.com/wp-content/uploads/2022/11/battleship-12k.png
END:VEVENT
END:VCALENDAR